BEGIN:VCALENDAR
VERSION:2.0
PRODID:-//https://takethedate.it///NONSGML kigkonsult.se iCalcreator 2.10.15//
METHOD:PUBLISH
BEGIN:VEVENT
UID:20260421T024503CEST-6414JnOgO0@https://takethedate.it/
DTSTAMP:20260421T004503Z
DESCRIPTION:Il webinar “Infortuni e malattie professionali in ottica di gen
 ere. Cosa raccontano i dati” è in programma giovedì 23 aprile\, alle 14:00
 \, su piattaforma Microsoft Teams.\nPromosso dal Comitato unico di garanzi
 a (Cug) Inail\, il contributo presenta un’analisi descrittiva e interpreta
 tiva degli infortuni sul lavoro e delle malattie professionali in Italia c
 on riferimento al quinquennio 2020 2024 e prime indicazioni sul 2025 in ot
 tica di genere.\nLe statistiche evidenziano come la diversa collocazione d
 i donne e uomini nel mercato del lavoro si traduca in differenti profili d
 i rischio ben evidenti dall’analisi degli eventi lesivi per settori di att
 ività economica e professioni.\nL’approfondimento dei dati mostra situazio
 ni di vulnerabilità\, tra cui: l’invecchiamento progressivo dei lavoratori
  infortunati e tecnopatici\, l’esposizione al rischio di violenze e aggres
 sioni più elevato per le lavoratrici\, in particolare nel settore della sa
 nità\; la difficoltà nella conciliazione dei tempi di vita e lavoro\, che 
 nelle donne porta ad un’incidentalità stradale maggiore con impatti più ri
 levanti nel caso di esiti mortali\; la diversa incidenza delle patologie p
 rofessionali in relazione sia al differente livello di esposizione al risc
 hio\, sia alle specifiche caratteristiche fisiche di uomini e donne (come 
 costituzione e forza).\nI dati forniscono informazioni utili alla comprens
 ione dei fenomeni rilevati e confermano la necessità di porre l’attenzione
  alle dimensioni lavorative e sociali che caratterizzano in modo diverso d
 onne e uomini.\nAl seminario interviene Adelina Brusco\, Attuario - Coordi
 natore Centrale 'Settore II° Banche dati' – Consulenza statistico attuaria
 le (Csa) Inail.\nL’incontro si inserisce nell’ambito dei “Giovedì del Cug'
  spazi di informazione per il Personale a cura del Comitato unico di garan
 zia per le pari opportunità\, la valorizzazione del benessere di chi lavor
 a e contro le discriminazioni (Cug) Inail. https://takethedate.it/lavoro/E
 venti/52238-infortuni-e-malattie-professionali-in-ottica-di-genere-cosa-ra
 ccontano-i-dati.html
DTSTART:20260423T120000Z
DTEND:20260423T150000Z
LOCATION:evento online  ()
SUMMARY:Infortuni e malattie professionali in ottica di genere. cosa raccon
 tano i dati
URL:https://takethedate.it/lavoro/Eventi/52238-infortuni-e-malattie-profess
 ionali-in-ottica-di-genere-cosa-raccontano-i-dati.html
END:VEVENT
END:VCALENDAR
