BEGIN:VCALENDAR
VERSION:2.0
PRODID:-//https://takethedate.it///NONSGML kigkonsult.se iCalcreator 2.10.15//
METHOD:PUBLISH
BEGIN:VEVENT
UID:20260422T132427CEST-4854EslF2d@https://takethedate.it/
DTSTAMP:20260422T112427Z
DESCRIPTION:L’IA e la sfida educativa. Analisi interdisciplinare su scuola 
 e tecnologie emergenti. Su iniziativa del senatore Roberto Marti https://t
 akethedate.it/innovazione-e-digital/Eventi/52462-lia-e-la-sfida-educativa.
 html
DTSTART:20260422T073000Z
DTEND:20260422T103000Z
LOCATION:Roma (Roma)
SUMMARY:L’IA e la sfida educativa
URL:https://takethedate.it/innovazione-e-digital/Eventi/52462-lia-e-la-sfid
 a-educativa.html
END:VEVENT
END:VCALENDAR
