BEGIN:VCALENDAR
VERSION:2.0
PRODID:-//https://takethedate.it///NONSGML kigkonsult.se iCalcreator 2.10.15//
METHOD:PUBLISH
BEGIN:VEVENT
UID:20260422T133841CEST-054479vsN9@https://takethedate.it/
DTSTAMP:20260422T113841Z
DESCRIPTION:PRESENTAZIONE LIBRO Riconquistare menti e cuori L'Occidente sul
  campo di battaglia digitale di PIETRO FRANCESCO DETTORI\nMODERA: Flavia G
 iacobbe direttrice di Formiche\nINTERVENGONO: Alessandro Sallusti direttor
 e di Politico Quotidiano Gino Zavalani direttore di Esperia Italia Pietro 
 Francesco Dettori autore del libro\ngiovedì 30 aprile ore 18:00 Mondadori 
 Bookstore Roma Galleria Alberto Sordi https://takethedate.it/innovazione-e
 -digital/Eventi/52457-presentazione-del-libro-riconquistare-menti-e-cuori-
 loccidente-sul-campo-di-battaglia-digitale.html
DTSTART:20260430T160000Z
DTEND:20260430T180000Z
LOCATION:Roma (Roma)
SUMMARY:Presentazione del libro: 'Riconquistare menti e cuori. L'Occidente 
 sul campo di battaglia digitale'
URL:https://takethedate.it/innovazione-e-digital/Eventi/52457-presentazione
 -del-libro-riconquistare-menti-e-cuori-loccidente-sul-campo-di-battaglia-d
 igitale.html
END:VEVENT
END:VCALENDAR
