BEGIN:VCALENDAR
VERSION:2.0
PRODID:-//https://takethedate.it///NONSGML kigkonsult.se iCalcreator 2.10.15//
METHOD:PUBLISH
BEGIN:VEVENT
UID:20260420T184530CEST-5271Vu7RJ6@https://takethedate.it/
DTSTAMP:20260420T164530Z
DESCRIPTION:  https://takethedate.it/innovazione-e-digital/Eventi/52363-con
 ferenza-stampa-di-presentazione-della-xi-settimana-delle-culture-digitali-
 antonio-ruberti-conferenza-stampa-di-anna-ascani.html
DTSTART:20260420T140000Z
DTEND:20260420T170000Z
LOCATION:Roma (Roma)
SUMMARY:Conferenza stampa di presentazione della XI Settimana delle Culture
  Digitali 'Antonio Ruberti' - Conferenza stampa di Anna Ascani
URL:https://takethedate.it/innovazione-e-digital/Eventi/52363-conferenza-st
 ampa-di-presentazione-della-xi-settimana-delle-culture-digitali-antonio-ru
 berti-conferenza-stampa-di-anna-ascani.html
END:VEVENT
END:VCALENDAR
