BEGIN:VCALENDAR
VERSION:2.0
PRODID:-//https://takethedate.it///NONSGML kigkonsult.se iCalcreator 2.10.15//
METHOD:PUBLISH
BEGIN:VEVENT
UID:20260420T183454CEST-1465Uw3srS@https://takethedate.it/
DTSTAMP:20260420T163454Z
DESCRIPTION:21 aprile\, ore 10.00 - Camera dei Deputati CHATBOT E MINORI Pr
 esentazione della proposta di legge\nIntervengono On. Giulia Pastorella\, 
 firmataria della proposta di legge Massimiliano Capitanio\, Commissario AG
 COM Guido Scorza\, già Garante Privacy Antonella Inverno\, Save the Childr
 en Ivano Zoppi\, Fond.\nCarolina Daniele Grassucci\, Skuola.net Rossella Z
 atta\, Microsoft Martina Colasante\, Google Angelo Mazzetti\, Meta\nIntrod
 uce Sen. Carlo Calenda\, segretario di Azione\nPer partecipare L’evento si
  terrà nella sala Conferenze Stampa della Camera dei Deputati\, in via del
 la Missione\, 4. L’accesso è possibile solo su accreditamento tramite mail
 : francesco.camerotto@camera.it https://takethedate.it/innovazione-e-digit
 al/Eventi/52360-chatbot-e-minori.html
DTSTART:20260421T080000Z
DTEND:20260421T110000Z
LOCATION:Roma (Roma)
SUMMARY:Chatbot e minori
URL:https://takethedate.it/innovazione-e-digital/Eventi/52360-chatbot-e-min
 ori.html
END:VEVENT
END:VCALENDAR
