BEGIN:VCALENDAR
VERSION:2.0
PRODID:-//https://takethedate.it///NONSGML kigkonsult.se iCalcreator 2.10.15//
METHOD:PUBLISH
BEGIN:VEVENT
UID:20260420T183742CEST-0234JpCFkO@https://takethedate.it/
DTSTAMP:20260420T163742Z
DESCRIPTION:15:00 – 15:30 ACCREDITO 15:30 – 16:00 SALUTI ISTITUZIONALI: Sen
 . Licia Ronzulli\, Vicepresidente del Senato della Repubblica Sen. Alberto
  Barachini\, Sottosegretario alla Presidenza del Consiglio dei Ministri al
 l’Informazione e all’Editoria INTERVENTI: 16:00 – 16:15 'Sovereign AI Arch
 itecture' Aldo Bisio\, CEO Engineering Group 16:15 – 16:30 'Promozione e s
 viluppo dell'AI in Italia' Mario Nobile\, Direttore Generale AgID 16:30 – 
 16:45 'Cybersicurezza\, IA e cultura digitale' Bruno Frattasi\, Direttore 
 Generale ACN 16:45 – 17:30 ROUNDTABLE “AI sovrana\, sicura e sostenibile' 
 – Sen. Lorenzo Basso\, Vice Presidente PD Commissione innovazione tecnolog
 ica e comunicazioni del Senato della Repubblica – On. Giulio Centemero\, C
 omponente Lega Commissione Finanze Camera dei Deputati – Sen. Guido Liris\
 , Capogruppo FdI Commissione Bilancio Senato della Repubblica – Sen. Raffa
 ella Paita\, Presidente Gruppo Italia Viva Senato della Repubblica – On. G
 iulia Pastorella\, Capogruppo Azione Commissione Trasporti\, Poste e TLC C
 amera dei Deputati – Donatella Proto\, Direttore Generale Nuove tecnologie
  abilitanti Mimit 17.30 – 18:00 ROUNDTABLE “AI everywhere: le applicazioni
  dell’AI nei verticali di mercato” – Stefania Bandini\, Professoressa Ordi
 naria di Computer Science Università Milano-Bicocca – Fabio Momola\, EVP E
 NG Digital Engineering Group – Fabio Pammolli\, Presidente Istituto Italia
 no di Intelligenza Artificiale AI4I – Enzo Peruffo\, Pro Rettore e Profess
 ore Ordinario di Strategie d'impresa Luiss CONCLUSIONI: 18:00 – 18:15 Sen.
  Alessio Butti\, Sottosegretario alla Presidenza del Consiglio dei Ministr
 i all’Innovazione tecnologica e transizione digitale MODERA: Michelangelo 
 Suigo\, Chief Public Affairs\, Corporate Comm.\n& Sustainability Officer E
 ngineering Group L’accesso alla sala con abbigliamento consono e per gli u
 omini obbligo di giacca e cravatta\, è consentito fino al raggiungimento d
 ella capienza massima.\nLe opinioni e i contenuti espressi nell’ambito del
 l’iniziativa sono nell’esclusiva responsabilità dei proponenti e dei relat
 ori e non sono riconducibili in alcun modo al Senato della Repubblica o ad
  organi del Senato medesimo.\nI giornalisti e gli ospiti devono accreditar
 si scrivendo a eventi.engineering@eng.it RSVP: richiesta conferma di parte
 cipazione entro e non oltre il 17 aprile all’indirizzo mail eventi.enginee
 ring@eng.it In collaborazion con https://takethedate.it/innovazione-e-digi
 tal/Eventi/52188-ai-in-italia-innovazione-e-sovranita-digitale.html
DTSTART:20260421T130000Z
DTEND:20260421T160000Z
LOCATION:Roma (Roma)
SUMMARY:Ai in italia: innovazione e sovranità digitale
URL:https://takethedate.it/innovazione-e-digital/Eventi/52188-ai-in-italia-
 innovazione-e-sovranita-digitale.html
END:VEVENT
END:VCALENDAR
