BEGIN:VCALENDAR
VERSION:2.0
PRODID:-//https://takethedate.it///NONSGML kigkonsult.se iCalcreator 2.10.15//
METHOD:PUBLISH
BEGIN:VEVENT
UID:20260422T133552CEST-8103AEj4v1@https://takethedate.it/
DTSTAMP:20260422T113552Z
DESCRIPTION:CENSIS 21° RAPPORTO SULLA COMUNICAZIONE L’INFORMAZIONE NEL MIRI
 NO Martedì 28 aprile - ore 10:30 Accademia nazionale di San Luca Piazza Ac
 cademia di S. Luca\, 77 - Roma In collaborazione con: INTESA SANPAOLO MEDI
 ASET Rai TV 2000 SAVE THE DATE Per partecipare rivolgersi a ufficiostampa@
 censis.it https://takethedate.it/innovazione-e-digital/Eventi/52153-rpport
 o-sulla-comunicazione-linformazione-nel-mirino.html
DTSTART:20260428T083000Z
DTEND:20260428T113000Z
LOCATION:Roma (Roma)
SUMMARY:Rpporto sulla comunicazione - L'informazione nel mirino
URL:https://takethedate.it/innovazione-e-digital/Eventi/52153-rpporto-sulla
 -comunicazione-linformazione-nel-mirino.html
END:VEVENT
END:VCALENDAR
