BEGIN:VCALENDAR
VERSION:2.0
PRODID:-//https://takethedate.it///NONSGML kigkonsult.se iCalcreator 2.10.15//
METHOD:PUBLISH
BEGIN:VEVENT
UID:20260420T183630CEST-8988fBwP8p@https://takethedate.it/
DTSTAMP:20260420T163630Z
DESCRIPTION:Engineering promuove l’iniziativa al Senato sul ruolo strategic
 o dell'AI nello sviluppo del Paese.\nAGENDA\n15:00 – 15:30 ACCREDITO\n15:3
 0 – 16:00 SALUTI ISTITUZIONALI:Sen. Licia Ronzulli\, Vicepresidente del Se
 nato della RepubblicaSen. Alberto Barachini\, Sottosegretario alla Preside
 nza del Consiglio dei Ministri all’Informazione e all’Editoria\nINTERVENTI
 :16:00 – 16:15 'Sovereign AI Architecture'Aldo Bisio\, CEO Engineering Gro
 up\n16:15 – 16:30 'Cybersicurezza\, IA e cultura digitale' Bruno Frattasi\
 , Direttore Generale ACN\n16:30 – 17:15 ROUNDTABLE'AI sovrana\, sicura e s
 ostenibile'– On. Giulio Centemero\, Componente Lega Commissione Finanze Ca
 mera dei Deputati– Sen. Guido Liris\, Capogruppo FdI Commissione Bilancio 
 Senato della Repubblica– Mario Nobile\, Direttore Generale AgID– Sen. Raff
 aella Paita\, Presidente Gruppo Italia Viva Senato della Repubblica– On. G
 iulia Pastorella\, Capogruppo Azione Commissione Trasporti\, Poste e TLC C
 amera dei Deputati– Donatella Proto\, Direttore Generale Nuove Tecnologie 
 Abilitanti Mimit\n17:15 – 18:00 ROUNDTABLE'AI everywhere: le applicazioni 
 dell’AI nei verticali di mercato'– Stefania Bandini\, Professoressa Ordina
 ria di Computer Science Università Milano-Bicocca– Fabio Momola\, EVP ENG 
 Digital Engineering Group– Fabio Pammolli\, Presidente Istituto Italiano d
 i Intelligenza Artificiale AI4I– Enzo Peruffo\, Pro Rettore e Professore O
 rdinario di Strategie d'Impresa Luiss– Agostino Scornajenchi\, CEO Snam\nC
 ONCLUSIONI:18:00 – 18:15 Sen. Alessio Butti\, Sottosegretario alla Preside
 nza del Consiglio dei Ministri all’Innovazione Tecnologica e Transizione D
 igitale\nMODERA:Michelangelo Suigo\, Chief Public Affairs\, Corporate Comm
 . & Sustainability Officer Engineering Group https://takethedate.it/innova
 zione-e-digital/Eventi/51959-ai-italia-lintelligenza-artificiale-tra-innov
 azione-e-sovranita-digitale.html
DTSTART:20260421T130000Z
DTEND:20260421T163000Z
LOCATION:Roma (Roma)
SUMMARY:AI italia: l’intelligenza artificiale tra innovazione e sovranità d
 igitale
URL:https://takethedate.it/innovazione-e-digital/Eventi/51959-ai-italia-lin
 telligenza-artificiale-tra-innovazione-e-sovranita-digitale.html
END:VEVENT
END:VCALENDAR
