BEGIN:VCALENDAR
VERSION:2.0
PRODID:-//https://takethedate.it///NONSGML kigkonsult.se iCalcreator 2.10.15//
METHOD:PUBLISH
BEGIN:VEVENT
UID:20260422T132556CEST-6516PjTUEW@https://takethedate.it/
DTSTAMP:20260422T112556Z
DESCRIPTION:Il prossimo 23 aprile alle ore 10:00 si terrà al Centro Studi A
 mericani l’evento “Comunicare responsabilmente. Rivolgersi a molti\, rispe
 ttare tutti”\, organizzato in collaborazione con Formiche.\n \nKEYNOTE SPE
 ECH DI APERTURA \nMassimiliano Capitanio\, Commissario Agcom\nPRIMO PANEL
 \nComunicazione responsabile nella transizione ambientale e digitale\nSECO
 NDO PANEL \nComunicazione responsabile verso gli altri\nTERZO PANEL\nLe is
 tituzioni e la comunicazione responsabile\n \nL’iniziativa si terrà presso
  la sede del Centro\, in via Michelangelo Caetani 32\, 00186 Roma.\nRSVP: 
 event@centrostudiamericani.org https://takethedate.it/innovazione-e-digita
 l/Eventi/51879-comunicare-responsabilmente-rivolgersi-a-molti-rispettare-t
 utti.html
DTSTART:20260423T080000Z
DTEND:20260423T110000Z
LOCATION:Roma (Roma)
SUMMARY:Comunicare responsabilmente\, rivolgersi a molti\, rispettare tutti
 .
URL:https://takethedate.it/innovazione-e-digital/Eventi/51879-comunicare-re
 sponsabilmente-rivolgersi-a-molti-rispettare-tutti.html
END:VEVENT
END:VCALENDAR
