BEGIN:VCALENDAR
VERSION:2.0
PRODID:-//https://takethedate.it///NONSGML kigkonsult.se iCalcreator 2.10.15//
METHOD:PUBLISH
BEGIN:VEVENT
UID:20260421T001412CEST-1931bnzJXS@https://takethedate.it/
DTSTAMP:20260420T221412Z
DESCRIPTION:Italia Tech 2030 – Competenze\, innovazione e autonomia strateg
 ica nell'era dell'intelligenza artificiale\nIl 21 aprile 2026\, alle ore 1
 7:00\, si tiene presso la Sala Caduti di Nassirya di Palazzo Madama la con
 ferenza stampa di presentazione del nuovo numero di Parlamento Magazine\, 
 la rivista trimestrale di cultura e politica\, dedicato al tema 'Italia Te
 ch 2030'. L'iniziativa\, promossa dal Sen. Gianni Rosa\, affronta il ruolo
  dell'intelligenza artificiale nello sviluppo delle competenze nazionali\,
  nell'innovazione tecnologica e nel rafforzamento dell'autonomia strategic
 a del Paese in vista del 2030. L'evento è organizzato in collaborazione co
 n Parlamento Magazine e Italian Politics. Giornalisti e ospiti sono tenuti
  ad accreditarsi scrivendo a eventi@ilparlamentomagazine.it. L'accesso all
 a sala richiede abbigliamento consono e\, per gli uomini\, giacca e cravat
 ta. https://takethedate.it/innovazione-e-digital/Eventi/51662-italia-tech-
 competenze-innovazione-e-autonomia-strategica-nellera-dellintelligenza-art
 ificiale.html
DTSTART:20260421T150000Z
DTEND:20260421T180000Z
LOCATION:Roma (Roma)
SUMMARY:Italia tech: competenze\, innovazione e autonomia strategica nell'e
 ra dell'intelligenza artificiale 
URL:https://takethedate.it/innovazione-e-digital/Eventi/51662-italia-tech-c
 ompetenze-innovazione-e-autonomia-strategica-nellera-dellintelligenza-arti
 ficiale.html
END:VEVENT
END:VCALENDAR
