BEGIN:VCALENDAR
VERSION:2.0
PRODID:-//https://takethedate.it///NONSGML kigkonsult.se iCalcreator 2.10.15//
METHOD:PUBLISH
BEGIN:VEVENT
UID:20260423T194237CEST-4250e90rbU@https://takethedate.it/
DTSTAMP:20260423T174237Z
DESCRIPTION:\nIntroduce e modera:Giorgio De Rita Segretario Generale Censis
 \nPresenta il Rapporto:Costanza Corsini Ricercatrice Area Consumi\, Mercat
 i e Welfare Censis\nNe discutono:Stefania Andreoli – Psicoterapeuta Alli B
 eltrame – Counselor professionista e scrittrice\, fondatrice di Educazione
  Responsabile Mauro Magatti – Professore di Sociologia\, Università Cattol
 ica di Milano Maria Pontillo – Psicoterapeuta dell’Infanzia e dell’Adolesc
 enza\, Ospedale Pediatrico Bambino Gesù di Roma\n\nPerché nel nostro tempo
  si decide o si accetta di avere figli se quote crescenti di italiani vi r
 inunciano? Quali sono le ragioni e i valori di chi genitore lo è diventato
  ed è direttamente impegnato nella crescita dei figli? In quali scelte e c
 omportamenti si materializza l’esercizio della funzione genitoriale nel qu
 otidiano? Cosa resta di gioie e dolori di quel rapporto unico che si gener
 a tra genitori e figli impegnati nella crescita e nella conquista di matur
 ità e autonomia? Ecco alcuni dei quesiti a cui risponde il Rapporto  «Esse
 re genitori oggi. Valori e significati della genitorialità nella società i
 taliana»\, attraverso il racconto\, dall’angolatura di madri e padri\, del
 la vita da genitore nella nostra epoca.\n\nEVENTO IN PRESENZA\n\nPer accre
 ditarti clicca qui https://takethedate.it/eventi-roma/Eventi/52550-essere-
 genitori-oggi.html
DTSTART:20260507T083000Z
DTEND:20260507T113000Z
LOCATION:Roma (Roma)
SUMMARY:Essere genitori oggi
URL:https://takethedate.it/eventi-roma/Eventi/52550-essere-genitori-oggi.ht
 ml
END:VEVENT
END:VCALENDAR
