BEGIN:VCALENDAR
VERSION:2.0
PRODID:-//https://takethedate.it///NONSGML kigkonsult.se iCalcreator 2.10.15//
METHOD:PUBLISH
BEGIN:VEVENT
UID:20260423T162934CEST-5043X8tmUf@https://takethedate.it/
DTSTAMP:20260423T142934Z
DESCRIPTION:Giustizia e ambiente. L’impegno del WWF Italia per la tutela de
 lla natura. Su iniziativa del senatore Ettore Licheri https://takethedate.
 it/eventi-roma/Eventi/52518-giustizia-e-ambiente.html
DTSTART:20260423T123000Z
DTEND:20260423T143000Z
LOCATION:Roma (Roma)
SUMMARY:Giustizia e ambiente
URL:https://takethedate.it/eventi-roma/Eventi/52518-giustizia-e-ambiente.ht
 ml
END:VEVENT
END:VCALENDAR
