BEGIN:VCALENDAR
VERSION:2.0
PRODID:-//https://takethedate.it///NONSGML kigkonsult.se iCalcreator 2.10.15//
METHOD:PUBLISH
BEGIN:VEVENT
UID:20260423T151211CEST-6393Ww6kZJ@https://takethedate.it/
DTSTAMP:20260423T131211Z
DESCRIPTION: https://takethedate.it/eventi-roma/Eventi/52512-presentazione-
 libro-i-fratelli-cipperlik-di-andrea-tirelli-conferenza-stampa-di-carla-gi
 uliano.html
DTSTART:20260423T170000Z
DTEND:20260423T180000Z
LOCATION:Roma (Roma)
SUMMARY:Presentazione libro 'I fratelli Cipperlik' di Andrea Tirelli - Conf
 erenza stampa di Carla Giuliano
URL:https://takethedate.it/eventi-roma/Eventi/52512-presentazione-libro-i-f
 ratelli-cipperlik-di-andrea-tirelli-conferenza-stampa-di-carla-giuliano.ht
 ml
END:VEVENT
END:VCALENDAR
