BEGIN:VCALENDAR
VERSION:2.0
PRODID:-//https://takethedate.it///NONSGML kigkonsult.se iCalcreator 2.10.15//
METHOD:PUBLISH
BEGIN:VEVENT
UID:20260423T151154CEST-2459e0mUrO@https://takethedate.it/
DTSTAMP:20260423T131154Z
DESCRIPTION:\n\n https://takethedate.it/eventi-roma/Eventi/52511-tutto-per-
 un-like-che-male-fa-conferenza-stampa-di-stefania-ascari.html
DTSTART:20260423T153000Z
DTEND:20260423T183000Z
LOCATION:Roma (Roma)
SUMMARY:Tutto per un like...'che male fa?' - Conferenza stampa di Stefania 
 Ascari
URL:https://takethedate.it/eventi-roma/Eventi/52511-tutto-per-un-like-che-m
 ale-fa-conferenza-stampa-di-stefania-ascari.html
END:VEVENT
END:VCALENDAR
