BEGIN:VCALENDAR
VERSION:2.0
PRODID:-//https://takethedate.it///NONSGML kigkonsult.se iCalcreator 2.10.15//
METHOD:PUBLISH
BEGIN:VEVENT
UID:20260423T151330CEST-08638UIkih@https://takethedate.it/
DTSTAMP:20260423T131330Z
DESCRIPTION:\n\n https://takethedate.it/eventi-roma/Eventi/52509-istituzion
 e-della-giornata-del-consumo-consapevole-dei-prodotti-di-qualita-conferenz
 a-stampa-di-alberto-luigi-gusmeroli.html
DTSTART:20260423T123000Z
DTEND:20260423T143000Z
LOCATION:Roma (Roma)
SUMMARY:Istituzione della giornata del consumo consapevole dei prodotti di 
 qualità - Conferenza stampa di Alberto Luigi Gusmeroli
URL:https://takethedate.it/eventi-roma/Eventi/52509-istituzione-della-giorn
 ata-del-consumo-consapevole-dei-prodotti-di-qualita-conferenza-stampa-di-a
 lberto-luigi-gusmeroli.html
END:VEVENT
END:VCALENDAR
