BEGIN:VCALENDAR
VERSION:2.0
PRODID:-//https://takethedate.it///NONSGML kigkonsult.se iCalcreator 2.10.15//
METHOD:PUBLISH
BEGIN:VEVENT
UID:20260423T165742CEST-7046uujPxN@https://takethedate.it/
DTSTAMP:20260423T145742Z
DESCRIPTION:Il 27 maggio presso la sede LUISS di Roma si riaccendono i rifl
 ettori sulla terza tappa di Fabbrica ItalIA\, di RCS Academy e HPE – in co
 llaborazione il Corriere della Sera – l’evento che racconta da vicino come
  l’intelligenza artificiale sta cambiando il volto dell’innovazione italia
 na.\nDall’innovazione nelle gigafactory all’adozione dell’AI nelle imprese
 \, passando per la formazione avanzata e le collaborazioni tra centri di r
 icerca e università\, fino all’uso concreto dell’AI generativa in industri
 a\, finanza e organizzazione dei grandi eventi: una mattinata ricca di spu
 nti\, casi concreti e scenari futuri.\nUn’occasione unica per ascoltare le
  voci di chi sta costruendo\, ogni giorno\, l’ecosistema italiano dell’int
 elligenza artificiale. https://takethedate.it/eventi-roma/Eventi/52468-fab
 brica-italia-lecosistema-dellai-che-accelera-linnovazione.html
DTSTART:20260527T123000Z
DTEND:20260527T153000Z
LOCATION:Roma (Roma)
SUMMARY:Fabbrica ITALIA - L'ecosistema dell'AI che accelera l'innovazione
URL:https://takethedate.it/eventi-roma/Eventi/52468-fabbrica-italia-lecosis
 tema-dellai-che-accelera-linnovazione.html
END:VEVENT
END:VCALENDAR
