BEGIN:VCALENDAR
VERSION:2.0
PRODID:-//https://takethedate.it///NONSGML kigkonsult.se iCalcreator 2.10.15//
METHOD:PUBLISH
BEGIN:VEVENT
UID:20260423T161954CEST-2853jflInh@https://takethedate.it/
DTSTAMP:20260423T141954Z
DESCRIPTION:Oltre l'orbita: Innovazione\, dati e diritto nello spazio. Data
 center orbitanti\, infrastrutture strategiche e nuove sfide globali\nMerco
 ledì 29 Aprile 2026\, ore 16:00 Aula TD2 Campus Luiss di Viale Romania 32.
 \nPresiede e modera Stefano Mele Partner\, Gianni & Origoni\nIntervengono 
 Pierluigi Paracchi Chairman\, Fondazione Praexidia Federico Bonaiuto Gener
 al Counsel\, Leonardo S.p.A. Giorgio Martellino General Counsel\, Avio S.p
 .A. Raffaele Mauro General Partner\, Primo Capital SGR Roberta Moscaroli P
 artner\, Dentons Giovanni Paudice Head of Tax\, ELT Group https://takethed
 ate.it/eventi-roma/Eventi/52460-oltre-lorbita-innovazione-dati-e-diritto-n
 ello-spazio-datacenter-orbitanti-infrastrutture-strategiche-e-nuove-sfide-
 globali.html
DTSTART:20260429T140000Z
DTEND:20260429T170000Z
LOCATION:Roma (Roma)
SUMMARY:Oltre l'orbita: innovazione\, dati e diritto nello spazio. Datacent
 er orbitanti\, infrastrutture strategiche e nuove sfide globali'
URL:https://takethedate.it/eventi-roma/Eventi/52460-oltre-lorbita-innovazio
 ne-dati-e-diritto-nello-spazio-datacenter-orbitanti-infrastrutture-strateg
 iche-e-nuove-sfide-globali.html
END:VEVENT
END:VCALENDAR
