BEGIN:VCALENDAR
VERSION:2.0
PRODID:-//https://takethedate.it///NONSGML kigkonsult.se iCalcreator 2.10.15//
METHOD:PUBLISH
BEGIN:VEVENT
UID:20260423T151259CEST-4675Z1ubtV@https://takethedate.it/
DTSTAMP:20260423T131259Z
DESCRIPTION:Domenica 26 aprile\, presso l'Aula Fortuna dell'Edificio di Neu
 rologia e psichiatria\, si terrà il workshop Health AI Labs by SIIAM. L’in
 iziativa mira a promuovere l’interazione tra Intelligenza Artificiale e me
 dicina\, contribuendo alla diffusione della cultura digitale e dell’innova
 zione tecnologica in ambito sanitario. L'incontro si propone di generare u
 n aumento delle competenze trasversali e digitali dei partecipanti\, con p
 articolare riferimento all’applicazione dell’intelligenza artificiale in a
 mbito medico-sanitario\, producendo un potenziale impatto positivo sul lor
 o percorso formativo e professionale.L’iniziativa intende anche contribuir
 e alla crescita dell’interesse verso tematiche di frontiera\, quali la med
 icina computazionale\, la digital health e l’uso responsabile dell’intelli
 genza artificiale\, sostenendo un processo di aggiornamento culturale e te
 cnologico delle professioni sanitarie e della ricerca biomedica.Dal punto 
 di vista sociale e culturale\, l’evento mira a promuovere il confronto tra
  profili differenti\, incoraggiando pratiche di co-progettazione e apprend
 imento collaborativo orientate a bisogni concreti nel campo della salute.
 \n Locandina\n  https://takethedate.it/eventi-roma/Eventi/52385-health-ai-
 labs-by-siiam-ciclo-di-incontri-di-co-creazione-ai-per-la-medicina.html
DTSTART:20260426T070000Z
DTEND:20260426T100000Z
LOCATION:Roma (Roma)
SUMMARY:Health AI Labs by SIIAM: ciclo di incontri di co-creazione AI per l
 a medicina
URL:https://takethedate.it/eventi-roma/Eventi/52385-health-ai-labs-by-siiam
 -ciclo-di-incontri-di-co-creazione-ai-per-la-medicina.html
END:VEVENT
END:VCALENDAR
