BEGIN:VCALENDAR
VERSION:2.0
PRODID:-//https://takethedate.it///NONSGML kigkonsult.se iCalcreator 2.10.15//
METHOD:PUBLISH
BEGIN:VEVENT
UID:20260423T163508CEST-3171lnh4uC@https://takethedate.it/
DTSTAMP:20260423T143508Z
DESCRIPTION:Giovedì 23 aprile nel giorno del cinquantesimo anniversario del
 la morte di Renata Viganò (1900-1976)\, alle ore 17.30 presso la Fondazion
 e Gramsci in via Sebino 43a Roma\, il Dipartimento di Lettere e culture mo
 derne della Sapienza Università di Roma e la Fondazione Gramsci promuovono
 \, in collaborazione con la Biblioteca comunale dell’Archiginnasio di Bolo
 gna e con la Fondazione Elvira Badaracco di Milano\, un seminario di ricer
 ca per ricordare la scrittrice. \nNell’evento confluiranno gli esiti di un
  ciclo di lezioni tenute alla Sapienza Università di Roma su Come lavorava
  Viganò (marzo-aprile 2026)\, mentre al teatro Elfo di Milano (24-26 april
 e) sarà messa in scena L’Agnese va a morire nello spettacolo teatrale real
 izzato da Cinzia Spanò.\nProtagonista della costruzione di un’Italia democ
 ratica\, impegnata in prima linea nelle formazioni partigiane delle valli 
 di Comacchio\, infermiera con posizioni centrali nella gestione di ospedal
 i da campo\, intellettuale fortemente legata alla militanza nel Partito co
 munista italiano e voce inconfondibile de «l’Unità» e di «Noi donne»\, Vig
 anò ha vissuto dentro e fuori la scrittura la sua esistenza di lotta per i
  diritti civili e contro le diseguaglianze di classe e di genere. Il suo i
 mpegno letterario\, giornalistico\, politico e civile\, ha segnato un impo
 rtante riflesso nello sguardo del protagonismo delle donne nella Storia\, 
 non solo riunite intorno all’Agnese. Edito da Einaudi\, voluto da Natalia 
 Ginzburg\, L’Agnese va a morire (1949) è un intramontabile classico del No
 vecento\, che ha contribuito  in modo decisivo alla formazione dei nostri 
 immaginari poetici\, alla costruzione della memoria narrativa della lotta 
 partigiana\, con uno sguardo nuovo. \nUn’occasione per interrogarsi\, attr
 averso la letteratura\, sul significato universale dell’andare a morire\, 
 oggi\, ieri\, domani\, e in ciò dare senso alle parole\, alla vita di ogni
  donna\, di ogni uomo. A quell’eroismo invisibile\, fatto di lacrime e fat
 ica. Al valore politico della letteratura. Dove L’Agnese va a vivere. \nGl
 i incontri rientrano nelle attività del progetto di ricerca di Ateneo Sapi
 enza Università di Roma\, coordinato da Laura Di Nicola\, Mapping Twentiet
 h-Century Italian Literature (1943-1950). Authors\, Works\, Journals\, Cor
 respondence. Methodological Perspectives\, Research Tools and Case Studies
 .\n Locandina\n  https://takethedate.it/eventi-roma/Eventi/52384-andare-a-
 morire-guerra-politica-scrittura.html
DTSTART:20260423T153000Z
DTEND:20260423T183000Z
LOCATION:Roma (Roma)
SUMMARY:Andare a morire: guerra\, politica\, scrittura
URL:https://takethedate.it/eventi-roma/Eventi/52384-andare-a-morire-guerra-
 politica-scrittura.html
END:VEVENT
END:VCALENDAR
