BEGIN:VCALENDAR
VERSION:2.0
PRODID:-//https://takethedate.it///NONSGML kigkonsult.se iCalcreator 2.10.15//
METHOD:PUBLISH
BEGIN:VEVENT
UID:20260423T150505CEST-940135DfGP@https://takethedate.it/
DTSTAMP:20260423T130505Z
DESCRIPTION:Martedì 9 giugno\, dalle ore 9.30\, presso l’Auditorium Parco d
 ella Musica Ennio Morricone di Roma\, si svolgerà la nuova edizione del Ca
 reer Day UniMercatorum\, in collaborazione con Cesop HR Consulting Company
 .\nIl Career Day rappresenta un’importante occasione di incontro diretto t
 ra aziende e talenti\, offrendo ai partecipanti la possibilità di entrare 
 in contatto con realtà italiane e internazionali e di esplorare concrete o
 pportunità di inserimento professionale.\nDurante il Career Day sarà possi
 bile: - Consegnare il proprio CV alle aziende partecipanti - Conoscere le 
 posizioni aperte - Fare networking con recruiter e professionisti del sett
 ore. https://takethedate.it/eventi-roma/Eventi/52366-career-day-unimercato
 rum.html
DTSTART:20260609T073000Z
DTEND:20260609T113000Z
LOCATION:Roma (Roma)
SUMMARY:Career Day UniMercatorum
URL:https://takethedate.it/eventi-roma/Eventi/52366-career-day-unimercatoru
 m.html
END:VEVENT
END:VCALENDAR
