BEGIN:VCALENDAR
VERSION:2.0
PRODID:-//https://takethedate.it///NONSGML kigkonsult.se iCalcreator 2.10.15//
METHOD:PUBLISH
BEGIN:VEVENT
UID:20260423T150712CEST-5634j3Ujuk@https://takethedate.it/
DTSTAMP:20260423T130712Z
DESCRIPTION:PROGRAMMA\nINTRODUCE Virginia Desirée ZUCCONI Presidente UCID R
 oma\nINTERVENGONO Sen. Alessio BUTTI Sottosegretario di Stato alla Preside
 nza del Consiglio con delega all’Innovazione Tecnologica\nS. Em. Card. Ang
 elo BAGNASCO Arcivescovo Emerito di Genova e Consulente Ecclesiastico UCID
  Nazionale\nMODERA Marco ITALIANO Consiglio Direttivo UCID Roma\n \nI gior
 nalisti e gli ospiti devono accreditarsi scrivendo a segreteria.butti@gove
 rno.it e sezioneroma@ucid.it. https://takethedate.it/eventi-roma/Eventi/52
 359-governare-linvisibile-regole-e-valori-per-lintelligenza-artificiale.ht
 ml
DTSTART:20260429T080000Z
DTEND:20260429T110000Z
LOCATION:Roma (Roma)
SUMMARY:Governare l'invisibile: regole e valori per l'intelligenza artifici
 ale
URL:https://takethedate.it/eventi-roma/Eventi/52359-governare-linvisibile-r
 egole-e-valori-per-lintelligenza-artificiale.html
END:VEVENT
END:VCALENDAR
