BEGIN:VCALENDAR
VERSION:2.0
PRODID:-//https://takethedate.it///NONSGML kigkonsult.se iCalcreator 2.10.15//
METHOD:PUBLISH
BEGIN:VEVENT
UID:20260423T163749CEST-4630U0meMu@https://takethedate.it/
DTSTAMP:20260423T143749Z
DESCRIPTION:Incontro con gli esponenti delle Associazioni Combattentistiche
  e d'Arma nella ricorrenza dell'81° Anniversario della Liberazione https:/
 /takethedate.it/eventi-roma/Eventi/52322-incontro-con-gli-esponenti-delle-
 associazioni-combattentistiche-e-darma-nella-ricorrenza-dell81-anniversari
 o-della-liberazione.html
DTSTART:20260423T150000Z
DTEND:20260423T170000Z
LOCATION:Roma (Roma)
SUMMARY:Incontro con gli esponenti delle Associazioni Combattentistiche e d
 'Arma nella ricorrenza dell'81° Anniversario della Liberazione
URL:https://takethedate.it/eventi-roma/Eventi/52322-incontro-con-gli-espone
 nti-delle-associazioni-combattentistiche-e-darma-nella-ricorrenza-dell81-a
 nniversario-della-liberazione.html
END:VEVENT
END:VCALENDAR
