BEGIN:VCALENDAR
VERSION:2.0
PRODID:-//https://takethedate.it///NONSGML kigkonsult.se iCalcreator 2.10.15//
METHOD:PUBLISH
BEGIN:VEVENT
UID:20260423T131323CEST-6514aZRuo2@https://takethedate.it/
DTSTAMP:20260423T111323Z
DESCRIPTION:09:30 – 10:00 SALUTI ISTITUZIONALI Carlo Alberto GIUSTI\, Retto
 re dell’Università degli Studi Link Emilio GRECO\, Direttore del Dipartime
 nto di Scienze Umane Università degli Studi Link Roberto RUSSO\, Direttore
  Generale Università degli Studi Link Desirée SABATINI\, Coordinatrice DAM
 S\, Università degli Studi Link\n10:00 – 11:15 PANEL 1 - Presenza\, simula
 zione e spettatorialità postmediale Coordina: Antonio PIZZO\, Università d
 i Torino PRESENZA E SIMULAZIONE: NARRAZIONE STORICA TECNO-MEDIATA E APPREN
 DIMENTO ESPERIENZIALE XR Alessia PRATI\, Università IUAV Venezia\; Gabriel
 e PROSPERI\, Università del Salento\; Maria Chiara PROVENZANO\, Università
  Pegaso ESSERE O NON ESSERE IN UN SERVER: ABITARE IL LIMITE TRA LIVENESS E
  DRAMMATURGIA DELLA GAMIFICATION Sergio LO GATTO\, Università degli Studi 
 Link LO SPETTATORE TEATRALE COME PRATICANTE MEDIALE Massimo Roberto BEATO\
 , Università degli Studi della Tuscia\n11:15 – 11:45 Coffee break\n11:45 –
  13:30 PANEL 2 - Corpi algoritmici e drammaturgie generative Coordina: Luc
 a RUZZA\, Sapienza Università di Roma CORPI ALGORITMICI.\nLE ARTI PERFORMA
 TIVE NELLA CO-COSTRUZIONE CON LE INTELLIGENZE ARTIFICIALI E GLI ALGORITMI 
 Alfonso AMENDOLA\, Maria Beatrice RUSSO\, Università degli Studi di Salern
 o DAL PODCAST AL PALCO E OLTRE: COMICITÀ\, FRAMMENTAZIONE E COSTRUZIONE DE
 L PUBBLICO NEI CASI DI TINTORIA E DE CORE Alessio CECCHERELLI\, Università
  degli Studi Link DRAMMATURGIA GENERATIVA: INTERATTIVITÀ\, VOCE E CORPO NE
 LLA REINVENZIONE DEL TESTO TEATRALE Mahnaz ESMAEILI\, Sapienza Università 
 di Roma MINDPOLIS: UNA METODOLOGIA CROSS-MEDIALE PER UNA DRAMMATURGIA DIGI
 TALE PARTECIPATIVA Nenad GLAVAN\, Università degli Studi Link\n13:30 – 15:
 00 Pausa pranzo\n15:00 – 16:30 PANEL 3 - Ecologie\, Tecnologie e pratiche 
 di resistenza Coordina: Angelo CAPASSO\, Critico d’arte\, Accademia Carrar
 a\, Principal Investigator\, progetto C.O.M.\nTECNOFEMMINISMO CRIP: TECNOL
 OGIE\, AUTODETERMINAZIONE E DISABILITÀ Flavia Dalila D’AMICO\, Università 
 degli Studi Link RITUALI\, TECNOLOGIE DEL REINCANTO E ATTIVISMO CURATORIAL
 E TRANSFEMMINISTA NELLA SCENA DIGITALE Arianna FORTE\, Ricercatrice indipe
 ndente DALL’ECO-ATTIVISMO ALL’ECOLOGIA PERFORMATIVA: L’AZIONE COLLETTIVA N
 ELL’OPERA DI LADA SEGA Nataša IVANČEVIĆ\, Direttrice Museo Nazionale del T
 urismo di Abbazia\, Croazia Ecologie della performance - alcune pratiche R
 iccardo FAZI\, Università del Salento\n16:30 – 18:00 TAVOLA ROTONDA - Oltr
 e la scena. Archivi\, dispositivi e trasmissione della performance Moderan
 o: Ferruccio MAROTTI\, Prof. Emerito Sapienza Università di Roma\; Sergio 
 LO GATTO\, Università degli Studi Link\; Andrea POCOSGNICH\, Direttore res
 ponsabile\, Teatro e Critica https://takethedate.it/eventi-roma/Eventi/523
 04-la-scena-digitale-pratiche-politiche-e-poetiche-dello-spettacolo-digita
 le.html
DTSTART:20260423T073000Z
DTEND:20260423T103000Z
LOCATION:Roma (Roma)
SUMMARY:La scena digitale: pratiche\, politiche e poetiche dello spettacolo
  digitale
URL:https://takethedate.it/eventi-roma/Eventi/52304-la-scena-digitale-prati
 che-politiche-e-poetiche-dello-spettacolo-digitale.html
END:VEVENT
END:VCALENDAR
