BEGIN:VCALENDAR
VERSION:2.0
PRODID:-//https://takethedate.it///NONSGML kigkonsult.se iCalcreator 2.10.15//
METHOD:PUBLISH
BEGIN:VEVENT
UID:20260423T180341CEST-7053m5rL4P@https://takethedate.it/
DTSTAMP:20260423T160341Z
DESCRIPTION:Roma\, 11 giugno 20269:30-13:00\npresentazione in presenzaSala 
 Marconi – Consiglio Nazionale delle Ricerche\, Piazzale Aldo Moro\, 7\nIX 
 Rapporto Mobilitaria – Ridurre il gap: dati\,\npolitiche e soluzioni per c
 ittà sostenibili\nDivari nell’offerta di mobilità sostenibile e qualità de
 ll’aria nelle grandi città italiane\n\nProgramma in corso di definizione\n
  https://takethedate.it/eventi-roma/Eventi/52285-ridurre-il-gap-dati-polit
 iche-e-soluzioni-per-citta-sostenibili.html
DTSTART:20260611T073000Z
DTEND:20260611T110000Z
LOCATION:Roma (Roma)
SUMMARY:Ridurre il gap: dati\, politiche e soluzioni per città sostenibili
URL:https://takethedate.it/eventi-roma/Eventi/52285-ridurre-il-gap-dati-pol
 itiche-e-soluzioni-per-citta-sostenibili.html
END:VEVENT
END:VCALENDAR
