BEGIN:VCALENDAR
VERSION:2.0
PRODID:-//https://takethedate.it///NONSGML kigkonsult.se iCalcreator 2.10.15//
METHOD:PUBLISH
BEGIN:VEVENT
UID:20260423T165531CEST-4096ILN4M5@https://takethedate.it/
DTSTAMP:20260423T145531Z
DESCRIPTION:La Seconda Edizione degli Stati Generali si terrà a Roma\, nei 
 giorni 21 e 22 maggio 2025\, presso la Sala Angiolillo di Palazzo Wedekind
 \, in piazza Colonna n. 366.\nL'evento si aprirà mercoledi 21 maggio 2025 
 alle ore 10.30 con la presentazione dei risultati raggiunti dall'Agenzia d
 elle Dogane e Monopoli nell'anno 2024.\nSeguiranno tre sessioni incentrate
  su specifiche tematiche ciascuna dedicata a un ambito di interesse dell'A
 genzia:\nSessione Dogane 'VERSO UNA DOGANA MODERNA: TRASPARENZA\, INNOVAZI
 ONE TECNOLOGICA E COMPLIANCE' - mercoledi 21 maggio 2025 ore 14.55\;\nSess
 ione Accise 'IL SISTEMA EUROPEO DI TRACKING AND TRACING PER I PRODOTTI DEL
  TABACCO E GLI SVILUPPI INFORMATICI SUI CONTRASSEGNI DI STATO PER I PRODOT
 TI ALCOLICI' - giovedi 22 maggio 2025 ore 11.00\;\nSessione Giochi 'LA PRO
 MOZIONE E LO SVILUPPO DEL GIOCO RESPONSABILE TRA REGOLAMENTAZIONE\, INNOVA
 ZIONE TECNOLOGICA E PROSPETTIVA DELLE SCIENZE COMPORTAMENTALI' - giovedi 2
 2 maggio ore 14.55.\n \nPartecipazione\nCiascuna sessione sarà articolata 
 in distinti panel al fine di esaminare taluni aspetti di particolare inter
 esse\, ai quali potrà partecipare\, per ragioni organizzative\, un numero 
 limitato di rappresentanti delle Istituzioni pubbliche\, del mondo accadem
 ico e dell’imprenditoria.\nEventuali candidature per la partecipazione com
 e relatore ai singoli panel\, da trasmettere all’indirizzo di posta elettr
 onica certificata adm.affarigiuridici@pec.adm.gov.it\, entro e non oltre i
 l 28 aprile 2025 saranno valutate ai fini della definizione dell’agenda de
 i lavori.\nPrevia registrazione\, entro il 9 maggio 2025\, sarà altresì po
 ssibile partecipare all’evento in qualità di uditore\, in presenza – nei l
 imiti dei posti disponibili – ovvero in modalità webinar.\n \nInvio contri
 buti\nPer una più ampia raccolta di opinioni e di proposte in ordine ai si
 ngoli temi sui quali sarà incentrato il dibattito degli Stati Generali\, è
  comunque possibile inviare\, entro e non oltre il 9 maggio 2025\, un cont
 ributo scritto all’indirizzo di posta elettronica certificata adm.affarigi
 uridici@pec.adm.gov.it\, indicando nell’oggetto della email la sessione te
 matica di riferimento (dogane\, accise\, giochi). https://takethedate.it/e
 venti-roma/Eventi/52273-gli-stati-generali-dellagenzia-delle-dogane-e-dei-
 monopoli-2025.html
DTSTART:20260521T083000Z
DTEND:20260522T153000Z
LOCATION:Roma (Roma)
SUMMARY:Gli Stati Generali dell’Agenzia delle Dogane e dei Monopoli 2025
URL:https://takethedate.it/eventi-roma/Eventi/52273-gli-stati-generali-dell
 agenzia-delle-dogane-e-dei-monopoli-2025.html
END:VEVENT
END:VCALENDAR
