BEGIN:VCALENDAR
VERSION:2.0
PRODID:-//https://takethedate.it///NONSGML kigkonsult.se iCalcreator 2.10.15//
METHOD:PUBLISH
BEGIN:VEVENT
UID:20260423T182820CEST-4980lRGVkF@https://takethedate.it/
DTSTAMP:20260423T162820Z
DESCRIPTION:Le macro-tematiche delle due giornate saranno incentrate sul ru
 olo dell’innovazione e della responsabilità sociale nel mondo della luce\,
  con particolare attenzione alle nuove sfide che le tecnologie emergenti\,
  come l’intelligenza artificiale\, stanno ponendo al settore dell’illumina
 zione e alla nostra Associazione.\nIn questa prospettiva\, si rende sempre
  più necessario ripensare il ruolo della luce non soltanto come elemento t
 ecnico\, ma come strumento capace di generare valore e promuovere un impeg
 no concreto sul piano sociale e ambientale.\nPROGRAMMA MARTEDÌ 9 GIUGNO 09
 :30 – 10:30 ACCOGLIENZA E WELCOME COFFEE 10:30 – 10:40 APERTURA DEI LAVORI
  Saluti istituzionali a cura di Laura Bellia\, Presidente AIDI 10:40 – 11:
 10 INTERVENTO DI APERTURA Illuminare la transizione.\nSfide e prospettive 
 tra innovazione e responsabilità a cura di Romano Benini\, Docente univers
 itario ed esperto del Ministero del Lavoro\nMERCOLEDÌ 10 GIUGNO 09:00 – 10
 :10 FOCUS L’Impatto dell’Intelligenza Artificiale e delle nuove tecnologie
  digitali nel settore dell’illuminazione Interventi introduttivi: Oltre la
  luce!\nL’IA tra cambi di paradigma\, coni d’ombra e trasformazioni a cura
  di Michele Fioroni\, Dipartimento per la Trasformazione Digitale\, Presid
 enza del Consiglio dei Ministri e autore di thriller geopolitici.\nLe scel
 te dell’impresa nell’uso responsabile del digitale a cura di Pietro Jarre\
 , Co fondatore dell’Associazione Sloweb aps. 10:10 – 10:30 KEYNOTE SPEECH 
 La città non dorme\, impara.\nAgenti IA per gli spazi urbani del futuro a 
 cura di Alberto Giovanni Gerli\, Technology entrepreneur e big data scient
 ist.\n11:10 – 12:30 TAVOLA ROTONDA Le Associazioni oggi: nuove opportunità
  e responsabilità con Dante Cariboni\, CEO di Cariboni Group e Vicepreside
 nte AIDI\, Carlo Comandini\, Presidente ASSIL\, Vincenzo de Martino\, Pres
 idente ANIE\, Cristian Fabbri\, Vice Presidente UTILITALIA\, Delegato al S
 ettore Energia\, Andrea Griletto\, Direttore ASSORESTAURO\, Bianca Tresold
 i\, Presidente APIL\, Carlo Urbinati\, Presidente ASSOLUCE di FederlegnoAr
 redo.\nModera: Laura Bellia\, Presidente AIDI. 12:30 – 12:45 DIBATTITO IN 
 SALA 12:45 – 13:15 INTRODUZIONE AI LAVORI AIDI 2030 a cura di Roberto Barb
 ieri\, Segretario Generale AIDI.\n10:30 – 10:45 DIBATTITO IN SALA 10:45 – 
 11:00 COFFEE BREAK 11:00 – 12:20 TAVOLA ROTONDA Strumenti digitali: opport
 unità nella gestione della progettazione e dei processi con Giovanni Bruno
 \, Professore Ordinario di Diritto Privato presso l’Università La Sapienza
  di Roma\, Alberto Carone\, Responsabile sviluppo progetti energetici di r
 igenerazione urbana Business to Government di Edison Next\, Marco Frascaro
 lo\, Docente e responsabile Lab Fisica Tecnica UniRomaTre\, coordinatore M
 aster Lighting Design Sapienza\, founder Fabertechnica\, Andrea Solzi\, Di
 rettore Generale di Assil\, Andrea Torre\, Responsabile del settore illumi
 nazione di NTI Italy.\nModera: Roberto Barbieri\, Segretario Generale AIDI
 . 13:15 – 14:30 LIGHT LUNCH 14:30 – 16:45 AIDI 2030: DIAMO VOCE AGLI ASSOC
 IATI 16:45 – 17:00 COFFEE BREAK 17:00 – 17:30 INTERVENTO DI CHIUSURA Assoc
 iazionismo oggi tra alleanza e libertà a cura di Fabrizio Dafano\, docente
  di Organizzazione Aziendale presso l’Università degli Studi Roma Tre.\nDa
 lle 20.00 APERICENA presso Palazzo delle Esposizioni. 12:20 – 12:30 DIBATT
 ITO IN SALA 12:30 – 13:30 SPEECH a cura delle Aziende Sponsor. 13:30 – 14:
 30 LIGHT LUNCH.\n14:30 – 15:30 WRAP UP AIDI 2030. 15:30 – 16:00 CONCLUSION
 I E SALUTI FINALI. https://takethedate.it/eventi-roma/Eventi/52259-luce-fr
 a-responsabilita-e-innovazione-xii-congresso-nazionale-aidi.html
DTSTART:20260609T073000Z
DTEND:20260610T143000Z
LOCATION:Roma (Roma)
SUMMARY:Luce fra responsabilità e innovazione - XII Congresso Nazionale AID
 I
URL:https://takethedate.it/eventi-roma/Eventi/52259-luce-fra-responsabilita
 -e-innovazione-xii-congresso-nazionale-aidi.html
END:VEVENT
END:VCALENDAR
