BEGIN:VCALENDAR
VERSION:2.0
PRODID:-//https://takethedate.it///NONSGML kigkonsult.se iCalcreator 2.10.15//
METHOD:PUBLISH
BEGIN:VEVENT
UID:20260423T182543CEST-5581RkadVv@https://takethedate.it/
DTSTAMP:20260423T162543Z
DESCRIPTION:Fratello Sole promuove Ogni Watt\, ogni goccia - Il valore soci
 ale dell'efficienza\, evento conclusivo del progetto Linee Guida per la ge
 stione dell’acqua e dell’energia nel Terzo Settore\, in programma a Roma l
 unedì 4 maggio alle ore 14.30\, presso l’Auditorium Chiesa di Santa Maria 
 del Carmine alle Tre Cannelle.\nIl progetto\, finanziato nell’ambito del B
 ando PROJECT 4.0 per proposte di progetti di ricerca da svolgersi nel bien
 nio 2022–2023 della Fondazione AMGA\, ha avuto come obiettivo l’aggiorname
 nto delle Linee Guida sull’energia — già oggetto di una prima pubblicazion
 e realizzata a fine 2021 nell’ambito dell’accordo di collaborazione tra EN
 EA e Fratello Sole — e lo sviluppo di nuove Linee Guida dedicate alla gest
 ione delle risorse idriche per gli enti del Terzo Settore.\nL’iniziativa s
 i propone di offrire strumenti concreti agli operatori del settore per aff
 rontare le criticità legate all’energia e all’acqua\, sotto il profilo tec
 nico\, economico e comportamentale\, contribuendo al miglioramento della q
 ualità dei servizi e della vita delle persone assistite quotidianamente.\n
 Oltre a Fratello Sole ed ENEA\, il progetto ha visto la partecipazione del
 la società indipendente italiana REF Ricerche. Nel corso dell’evento saran
 no presentate linee guida dedicate ad energia e acqua\, che raccolgono app
 rocci operativi\, buone pratiche e competenze specifiche\, oltre a soluzio
 ni validate e condivise durante lo sviluppo del progetto.\nL’appuntamento 
 è rivolto anche a professionisti interessati ad approfondire i principali 
 interventi di riqualificazione energetica e di efficientamento idrico nel 
 settore non profit.\nLa partecipazione è gratuita\, con possibilità di par
 tecipare sia in presenza sia da remoto. https://takethedate.it/eventi-roma
 /Eventi/52190-ogni-watt-ogni-goccia-il-valore-sociale-dellefficienza.html
DTSTART:20260504T130000Z
DTEND:20260504T160000Z
LOCATION:Roma (Roma)
SUMMARY:Ogni watt\, ogni goccia. il valore sociale dell'efficienza
URL:https://takethedate.it/eventi-roma/Eventi/52190-ogni-watt-ogni-goccia-i
 l-valore-sociale-dellefficienza.html
END:VEVENT
END:VCALENDAR
