BEGIN:VCALENDAR
VERSION:2.0
PRODID:-//https://takethedate.it///NONSGML kigkonsult.se iCalcreator 2.10.15//
METHOD:PUBLISH
BEGIN:VEVENT
UID:20260423T194430CEST-4417kUv6G3@https://takethedate.it/
DTSTAMP:20260423T174430Z
DESCRIPTION:SALUTI ISTITUZIONALI Carlo Alberto GIUSTI Magnifico Rettore Lui
 gi MARUOTTI Presidente Consiglio di Stato\nINTERVENTI Alberto OLIVETI Pres
 idente ENPAM Maria ANNUNZIATA Presidente di Cassa Forense Ferdinando BOCCI
 A Presidente Cassa Commercialisti Massimo GARBARI Presidente Inarcassa\nCR
 ISTINA CATANIA McKinsey EUGENIO DE BLASIO Fondatore Green Arrow Capital\nM
 ODERA Marcello PRESICCI Professore Università degli Studi Link\nPER ACCRED
 ITARSI SCRIVERE A: cerimoniale@unilink.it https://takethedate.it/eventi-ro
 ma/Eventi/52179-il-rapporto-tra-le-casse-di-previdenza-e-il-paese.html
DTSTART:20260512T093000Z
DTEND:20260512T113000Z
LOCATION:Roma (Roma)
SUMMARY:Il rapporto tra le casse di previdenza e il Paese
URL:https://takethedate.it/eventi-roma/Eventi/52179-il-rapporto-tra-le-cass
 e-di-previdenza-e-il-paese.html
END:VEVENT
END:VCALENDAR
