BEGIN:VCALENDAR
VERSION:2.0
PRODID:-//https://takethedate.it///NONSGML kigkonsult.se iCalcreator 2.10.15//
METHOD:PUBLISH
BEGIN:VEVENT
UID:20260423T194144CEST-1723hHUltV@https://takethedate.it/
DTSTAMP:20260423T174144Z
DESCRIPTION:Martedì 5 maggio 2026\, alle ore 17.00\, presso l’Aula “Giusepp
 e Dalla Vedova” del Palazzetto Mattei in Villa Celimontana a Roma\, si ter
 rà l’incontro dal titolo “Le Zone Economiche Speciali: laboratori geografi
 ci di coesione territoriale”\, promosso da Vision & Global Trends – Intern
 ational Institute for Global Analyses e dalla Società Geografica Italiana.
 \nL’evento sarà dedicato alla presentazione di due importanti pubblicazion
 i del prof. Michele Pigliucci della Università Link:\n\nLa Zona Economica 
 Speciale Unica. Geografia economica della ZES del Mezzogiorno d’Italia (Fr
 ancoAngeli)\nSpecial Economic Zones: Challenges and Opportunities for Terr
 itorial Development (Il Sileno Edizioni)\n\nUn tema strategico per lo svil
 uppo del Mezzogiorno\nIl dibattito si concentrerà sul ruolo delle Zone Eco
 nomiche Speciali (ZES) come strumenti innovativi di politica economica e t
 erritoriale. In particolare\, il volume di Michele Pigliucci “La Zona Econ
 omica Speciale Unica. Geografia economica della ZES del Mezzogiorno d’Ital
 ia“ evidenzia come la ZES Unica rappresenti una svolta nelle politiche di 
 coesione\, con l’obiettivo di ridurre il divario socioeconomico del Mezzog
 iorno e rafforzare il posizionamento dell’Italia nello spazio euro-mediter
 raneo.\nLe ZES vengono interpretate non solo come strumenti di attrazione 
 degli investimenti\, ma come leve di trasformazione strutturale dei sistem
 i produttivi\, capaci di integrare dimensioni economiche\, territoriali e 
 geopolitiche.\nIl volume internazionale “Special Economic Zones: Challenge
 s and Opportunities for Territorial Development“\, curato dallo stesso Pig
 liucci\, approfondisce invece il tema in chiave comparata\, analizzando co
 me le ZES si configurino oggi come veri e propri “laboratori territoriali”
  per sperimentare modelli di sviluppo\, governance e sostenibilità\, con o
 ltre 5.000 zone attive nel mondo.\nRelatori e partecipanti\nDopo i saluti 
 istituzionali di Gianluca Casagrande (Società Geografica Italiana)\, inter
 verranno:\nLuigi Sbarra – Sottosegretario alla Presidenza del Consiglio de
 i Ministri\nMaria Prezioso – Università di Roma “Tor Vergata”\nUgo Patroni
  Griffi – Università di Bari\nGiuseppe Borruso – Università di Trieste\nTi
 berio Graziani – Vision & Global Trends\nVincenzo Valenti – ISMAA\nModera:
  Mimmo Mazza – Direttore della Gazzetta del Mezzogiorno\nUn confronto tra 
 accademia\, istituzioni e policy maker\nL’incontro rappresenta un’importan
 te occasione di confronto tra mondo accademico\, istituzioni e decisori pu
 bblici su un tema centrale per il futuro del Paese: la costruzione di poli
 tiche territoriali efficaci\, integrate e sostenibili.\nLe ZES emergono in
 fatti come strumenti chiave per:\n\nattrarre investimenti e innovazione\nr
 afforzare le filiere produttive\nmigliorare la dotazione infrastrutturale
 \npromuovere coesione territoriale e sviluppo equilibrato\n\nInformazioni 
 sull’evento\nAula “Giuseppe Dalla Vedova” – Palazzetto Mattei in Villa Cel
 imontana\nVia della Navicella 12 – Roma\nMartedì 5 maggio 2026 Ore 17.00\n
 Registrarsi – entro lunedì 4 maggio – scrivendo a:  info@vision-gt.eu http
 s://takethedate.it/eventi-roma/Eventi/52170-le-zone-economiche-speciali-la
 boratori-geografici-di-coesione-territoriale.html
DTSTART:20260505T150000Z
DTEND:20260505T180000Z
LOCATION:Roma (Roma)
SUMMARY:Le zone economiche speciali: laboratori geografici di coesione terr
 itoriale
URL:https://takethedate.it/eventi-roma/Eventi/52170-le-zone-economiche-spec
 iali-laboratori-geografici-di-coesione-territoriale.html
END:VEVENT
END:VCALENDAR
