BEGIN:VCALENDAR
VERSION:2.0
PRODID:-//https://takethedate.it///NONSGML kigkonsult.se iCalcreator 2.10.15//
METHOD:PUBLISH
BEGIN:VEVENT
UID:20260423T165830CEST-0551JXMUTv@https://takethedate.it/
DTSTAMP:20260423T145830Z
DESCRIPTION:Si intitola “Competenze\, Innovazione\, Made in Italy: fattori 
 indispensabili alla competitività dell’Italia nel mondo” l'evento organizz
 ato da Unioncamere nell’ambito della “Giornata nazionale del Made in Italy
 ”\, che si terrà mercoledì 6 maggio agli Horti Sallustiani di Roma.\nL’ini
 ziativa intende promuovere una riflessione sul valore strategico delle com
 petenze\, della capacità innovativa e dell’eccellenza produttiva italiana 
 quali leve fondamentali per rafforzare il posizionamento del nostro Paese 
 nei mercati internazionali.\nAll’incontro prenderanno parte rappresentanti
  istituzionali e delle Camere di commercio italiane ed italiane all’estero
 \, Reti di scuole e Associazioni di categoria\, studentesse e studenti\, c
 on l’obiettivo di favorire l’orientamento e il dialogo costruttivo tra sis
 tema produttivo e nuove generazioni.\nApriranno i lavori il presidente di 
 Unioncamere\, Andrea Prete\, il presidente della Fondazione 'Imprese e com
 petenze per il made in Italy' Giovanni Brugnoli e il presidente di Assocam
 erestero Mario Pozza.\nAll'interno dell'appuntamento saranno presentate le
  iniziative di Unioncamere 'Premio TOP of the PID - School Edition' e il P
 remio 'Storie di alternanza e competenze'.\nProgramma provvisorio https://
 takethedate.it/eventi-roma/Eventi/52081-competenze-innovazione-made-in-ita
 ly-fattori-indispensabili-alla-competitivita-dellitalia-nel-mondo.html
DTSTART:20260506T073000Z
DTEND:20260506T110000Z
LOCATION:Roma (Roma)
SUMMARY:Competenze\, innovazione\, made in italy: fattori indispensabili al
 la competitività dell’italia nel mondo
URL:https://takethedate.it/eventi-roma/Eventi/52081-competenze-innovazione-
 made-in-italy-fattori-indispensabili-alla-competitivita-dellitalia-nel-mon
 do.html
END:VEVENT
END:VCALENDAR
