BEGIN:VCALENDAR
VERSION:2.0
PRODID:-//https://takethedate.it///NONSGML kigkonsult.se iCalcreator 2.10.15//
METHOD:PUBLISH
BEGIN:VEVENT
UID:20260423T150759CEST-6511ndXgPl@https://takethedate.it/
DTSTAMP:20260423T130759Z
DESCRIPTION:La Presidente Ance\, Federica Brancaccio\, interverrà in qualit
 à di relatrice al convegno ‘’Tecnologie digitali e IA per le infrastruttur
 e italiane’’\, organizzato su iniziativa dell’VIII Commissione del Senato 
 della Repubblica (Ambiente\, transizione ecologica\, energia\, lavori pubb
 lici\, comunicazioni\, innovazione tecnologica) e previsto per il prossimo
  giovedì 23 aprile alle ore 11.00\, a Roma.\nCliccare qui per seguire l’ev
 ento in diretta https://takethedate.it/eventi-roma/Eventi/52051-tecnologie
 -digitali-e-ia-per-le-infrastrutture-italiane.html
DTSTART:20260423T090000Z
DTEND:20260423T120000Z
LOCATION:Roma (Roma)
SUMMARY:Tecnologie digitali e IA per le infrastrutture italiane
URL:https://takethedate.it/eventi-roma/Eventi/52051-tecnologie-digitali-e-i
 a-per-le-infrastrutture-italiane.html
END:VEVENT
END:VCALENDAR
