BEGIN:VCALENDAR
VERSION:2.0
PRODID:-//https://takethedate.it///NONSGML kigkonsult.se iCalcreator 2.10.15//
METHOD:PUBLISH
BEGIN:VEVENT
UID:20260423T182748CEST-60327UiZUo@https://takethedate.it/
DTSTAMP:20260423T162748Z
DESCRIPTION:Mercoledì 13 maggio 2026\, Terrazza Civita Piazza Venezia\, 11 
 - Roma https://takethedate.it/eventi-roma/Eventi/51912-sicurezza-energetic
 a-e-competitivita-le-aziende-dello-storage-incontrano-le-istituzioni.html
DTSTART;VALUE=DATE:20260513
LOCATION:Roma (Roma)
SUMMARY:Sicurezza energetica e competitività\, le aziende dello storage inc
 ontrano le istituzioni
URL:https://takethedate.it/eventi-roma/Eventi/51912-sicurezza-energetica-e-
 competitivita-le-aziende-dello-storage-incontrano-le-istituzioni.html
END:VEVENT
END:VCALENDAR
