BEGIN:VCALENDAR
VERSION:2.0
PRODID:-//https://takethedate.it///NONSGML kigkonsult.se iCalcreator 2.10.15//
METHOD:PUBLISH
BEGIN:VEVENT
UID:20260423T163652CEST-3486GBbTnE@https://takethedate.it/
DTSTAMP:20260423T143652Z
DESCRIPTION:Il 23 aprile alle ore 14:30 presso la Sala degli Arazzi – Minis
 tero delle Imprese e del Made in Italy\, l’evento di lancio della Campagna
  “Artigianato\, futuro del made in Italy – Artigianato aumentato”\, promos
 sa da Confartigianato\, CNA e Casartigiani\, con Fondazione Symbola. L’ini
 ziativa\, promossa nell’ambito della Giornata del Made in Italy 2026\,  vu
 ole raccontare  attraverso la rappresentazione di 10 mestieri\, il concett
 o di artigianato aumentato: un artigianato che evolve le proprie competenz
 e integrando tradizione manifatturiera\, innovazione\, sostenibilità e str
 umenti digitali. L’obiettivo è valorizzare un modello produttivo già diffu
 so nei territori\, capace di rafforzare l’identità delle imprese artigiane
  e aumentarne la competitività.\nL’evento vedrà la presenza del Ministro A
 dolfo Urso e la partecipazione di Marco Granelli Presidente Confartigianat
 o\, Dario Costantini Presidente CNA\, Mauro Sangalli vice Presidente Casar
 tigiani e il Presidente di Fondazione Symbola\, Ermete Realacci.\nPer part
 ecipare è obbligatorio iscriversi entro il 22 aprile CLICCANDO QUI\nLa cam
 pagna si concluderà nell’ambito del XXIV Seminario Estivo di Symbola a Man
 tova l’11 giugno\, dove saranno presentate 100 imprese simbolo dell’artigi
 anato aumentato.  https://takethedate.it/eventi-roma/Eventi/51910-lancio-c
 ampagna-artigianato-futuro-del-made-in-italy---artigianato-aumentato.html
DTSTART:20260423T123000Z
DTEND:20260423T153000Z
LOCATION:Roma (Roma)
SUMMARY:Lancio Campagna “Artigianato\, futuro del made in Italy – Artigiana
 to aumentato”
URL:https://takethedate.it/eventi-roma/Eventi/51910-lancio-campagna-artigia
 nato-futuro-del-made-in-italy---artigianato-aumentato.html
END:VEVENT
END:VCALENDAR
