BEGIN:VCALENDAR
VERSION:2.0
PRODID:-//https://takethedate.it///NONSGML kigkonsult.se iCalcreator 2.10.15//
METHOD:PUBLISH
BEGIN:VEVENT
UID:20260423T180932CEST-1335Ujj6Vw@https://takethedate.it/
DTSTAMP:20260423T160932Z
DESCRIPTION:Assocostieri ASSEMBLEA ANNUALE 2026 25 giugno 2026 ore 11:00 Sa
 la Orlando Confcommercio Piazza G.G. Belli\, 2 - Roma https://takethedate.
 it/eventi-roma/Eventi/51495-assemblea-annuale-assocostieri-2026.html
DTSTART:20260625T090000Z
DTEND:20260625T113000Z
LOCATION:Roma (Roma)
SUMMARY:Assemblea annuale Assocostieri 2026
URL:https://takethedate.it/eventi-roma/Eventi/51495-assemblea-annuale-assoc
 ostieri-2026.html
END:VEVENT
END:VCALENDAR
