BEGIN:VCALENDAR
VERSION:2.0
PRODID:-//https://takethedate.it///NONSGML kigkonsult.se iCalcreator 2.10.15//
METHOD:PUBLISH
BEGIN:VEVENT
UID:20260423T183240CEST-3253Viva0O@https://takethedate.it/
DTSTAMP:20260423T163240Z
DESCRIPTION:La conferenza rappresenta un’evoluzione e un ampliamento di “Ce
 rtificati bianchi: titoli di efficienza energetica a portata di mano”\, st
 orico evento organizzato da FIRE\, che era giunto alla sua dodicesima ediz
 ione.\nL’iniziativa mira ad aggiornare i partecipanti sullo stato attuale 
 delle politiche e degli incentivi legati all’efficienza energetica e sulle
  loro possibili evoluzioni\, oltre a sensibilizzare le Istituzioni sulle e
 sigenze degli energy manager e degli operatori di mercato.\nL’appuntamento
  offre spunti e indicazioni utili per tutti gli stakeholder coinvolti nell
 a realizzazione di interventi di riqualificazione energetica\, creando anc
 he opportunità di dialogo e networking. https://takethedate.it/eventi-roma
 /Eventi/50924-enerpolicy-politiche-di-supporto-per-lefficienza-energetica.
 html
DTSTART:20260527T073000Z
DTEND:20260527T103000Z
LOCATION:Roma (Roma)
SUMMARY:Enerpolicy. politiche di supporto per l’efficienza energetica
URL:https://takethedate.it/eventi-roma/Eventi/50924-enerpolicy-politiche-di
 -supporto-per-lefficienza-energetica.html
END:VEVENT
END:VCALENDAR
