BEGIN:VCALENDAR
VERSION:2.0
PRODID:-//https://takethedate.it///NONSGML kigkonsult.se iCalcreator 2.10.15//
METHOD:PUBLISH
BEGIN:VEVENT
UID:20260422T132459CEST-2197DUJ8v0@https://takethedate.it/
DTSTAMP:20260422T112459Z
DESCRIPTION:Giovedì 23 aprile 2026 si terrà l’evento “Nautica & Lifestyle: 
 una visione integrata per il contract”\, organizzato da Confindustria Naut
 ica\, a Milano presso lo Showroom Trussardi\, in via Francesco Burlamacchi
  4.\nL’incontro rappresenta un momento di confronto e visione tra i mondi 
 della nautica\, del design e del lifestyle\, e sarà l’occasione per presen
 tare la nuova edizione del Design Innovation Award\, insieme alla pubblica
 zione dedicata alle prime sei edizioni del premio\, istituito nel 2020 da 
 Confindustria Nautica e dal Salone Nautico Internazionale.\nSi riporta di 
 seguito il Save the Date\nSTD_DESIGN INNOVATION AWARD 2026_NAUTICA&LIFESTY
 LE_23 aprile\, Milano_Trussardi Showroom https://takethedate.it/eventi-mil
 ano/Eventi/52429-design-innovation-award-2026.html
DTSTART:20260423T083000Z
DTEND:20260423T113000Z
LOCATION:Milano (Milano)
SUMMARY:Design Innovation Award 2026
URL:https://takethedate.it/eventi-milano/Eventi/52429-design-innovation-awa
 rd-2026.html
END:VEVENT
END:VCALENDAR
