BEGIN:VCALENDAR
VERSION:2.0
PRODID:-//https://takethedate.it///NONSGML kigkonsult.se iCalcreator 2.10.15//
METHOD:PUBLISH
BEGIN:VEVENT
UID:20260422T133910CEST-77659Va1bP@https://takethedate.it/
DTSTAMP:20260422T113910Z
DESCRIPTION:Mercoledì 13 maggio SRM partecipa a Milano a Transpotec Logitec
  2026 nell'ambito del panel 'Come cambia la logistica nel mondo sottosopra
 \, le nuove sfide. Dove va il cargo aereo'.\nNella nuova era del caos aper
 ta dalla pandemia del Covid è la geopolitica a dettare le mosse dell’econo
 mia mondiale: guerre\, cieli chiusi\, rotte marittime a rischio\, aeroport
 i nel mirino impattano fortemente sulla logistica\, il sistema linfatico d
 el commercio. Sarà il Direttore Generale di SRM\, Massimo Deandreis\, ad a
 prire con le sue riflessioni il convegno che poi si concentrerà sul cargo 
 aereo.\nIn volumi si direbbe che è poca cosa\, l’1% dell’export Extra Ue\,
  ma in valore siamo oltre il 25%: è fondamentale per il Made in Italy\, pe
 r le filiere del lusso come per l’agroalimentare\, il mobile e tanti altri
  prodotti. Gli spedizionieri aerei di Anama e i corrieri espresso di Aicai
  al Transpotec Logitec faranno il punto con i loro report sui trend del se
 ttore\, in questo mondo sottosopra con spazi aerei improvvisamente chiusi 
 a causa dei conflitti in corso. Gli aeroporti di Milano Malpensa\, Roma Fi
 umicino\, Venezia e Bologna\, i quattro big del cargo aereo\, porteranno l
 a loro visione a partire dall’andamento dei traffici e dalle previsioni pe
 r il futuro\, insieme alle sfide che li attendono.\nL'appuntamento è in Fi
 era Milano - Hall 24 - LOGITEC ARENA ore 15:45.\nProgramma\nBiglietti http
 s://takethedate.it/eventi-milano/Eventi/52380-come-cambia-la-logistica-nel
 -mondo-sottosopra-le-nuove-sfide-dove-va-il-cargo-aereo.html
DTSTART:20260513T134500Z
DTEND:20260513T151500Z
LOCATION:Milano (Milano)
SUMMARY:Come cambia la logistica nel mondo sottosopra: le nuove sfide\, dov
 e va il cargo aereo
URL:https://takethedate.it/eventi-milano/Eventi/52380-come-cambia-la-logist
 ica-nel-mondo-sottosopra-le-nuove-sfide-dove-va-il-cargo-aereo.html
END:VEVENT
END:VCALENDAR
