BEGIN:VCALENDAR
VERSION:2.0
PRODID:-//https://takethedate.it///NONSGML kigkonsult.se iCalcreator 2.10.15//
METHOD:PUBLISH
BEGIN:VEVENT
UID:20260422T133553CEST-6531neJ2oU@https://takethedate.it/
DTSTAMP:20260422T113553Z
DESCRIPTION:Giovedì 14 maggio SRM partecipa a Milano a Transpotec Logitec 2
 026 nell'ambito del panel La multimodalità lungo la supply chain: dal prod
 uttore al consumatore.\nIl convegno sarà aperto dall’Assessore alle Infras
 trutture e opere pubbliche della Regione Lombardia\, Claudia Maria Terzi\,
  e dalle relazioni del Ministero delle Infrastrutture e dei Trasporti e di
  Alessandro Panaro\, Head of Maritime & Energy di SRM.\nNella tavola roton
 da che seguirà saranno gli operatori delle diverse modalità\, dai porti ai
  terminalisti portuali\, agli interporti\, agli operatori del cargo ferrov
 iario all’autotrasporto a discutere da un lato delle criticità e dall’altr
 o delle nuove opportunità che hanno di fronte in relazione allo stato dell
 e infrastrutture\, agli investimenti del PNRR\, alla transizione energetic
 a e digitale e all’innovazione tecnologica.\nObiettivo: portare efficienza
  e servire sempre meglio l’industria e il Made In Italy. https://taketheda
 te.it/eventi-milano/Eventi/52379-la-multimodalita-lungo-la-supply-chain-da
 l-produttore-al-consumatore.html
DTSTART:20260514T080000Z
DTEND:20260514T100000Z
LOCATION:Milano (Milano)
SUMMARY:La multimodalità lungo la supply chain: dal produttore al consumato
 re
URL:https://takethedate.it/eventi-milano/Eventi/52379-la-multimodalita-lung
 o-la-supply-chain-dal-produttore-al-consumatore.html
END:VEVENT
END:VCALENDAR
