BEGIN:VCALENDAR
VERSION:2.0
PRODID:-//https://takethedate.it///NONSGML kigkonsult.se iCalcreator 2.10.15//
METHOD:PUBLISH
BEGIN:VEVENT
UID:20260420T184531CEST-07549PL6IB@https://takethedate.it/
DTSTAMP:20260420T164531Z
DESCRIPTION:Milano: conferenza stampa di presentazione dei contenuti dell'A
 ccordo Quadro tra Regione Lombardia e Intesa Sanpaolo. Ore 15\,30. Presso 
 Palazzo Lombardia. https://takethedate.it/eventi-milano/Eventi/52356-prese
 ntazione-dei-contenuti-dellaccordo-quadro-tra-regione-lombardia-e-intesa-s
 anpaolo.html
DTSTART:20260420T133000Z
DTEND:20260420T153000Z
LOCATION:Milano (Milano)
SUMMARY:Presentazione dei contenuti dell'Accordo Quadro tra Regione Lombard
 ia e Intesa Sanpaolo
URL:https://takethedate.it/eventi-milano/Eventi/52356-presentazione-dei-con
 tenuti-dellaccordo-quadro-tra-regione-lombardia-e-intesa-sanpaolo.html
END:VEVENT
END:VCALENDAR
