BEGIN:VCALENDAR
VERSION:2.0
PRODID:-//https://takethedate.it///NONSGML kigkonsult.se iCalcreator 2.10.15//
METHOD:PUBLISH
BEGIN:VEVENT
UID:20260420T184217CEST-8035Ue1spg@https://takethedate.it/
DTSTAMP:20260420T164217Z
DESCRIPTION:Milano: convegno 'Connettere per competere: l'Edi nel Largo Con
 sumo nel 2026'\, organizzato da GS1 Italy. Ore 10\,00. Presso il Politecni
 co di Milano\, via Giovanni Durando 10. Anche in streaming.\nDa decenni l’
 Electronic Data Interchange (EDI) rappresenta uno dei pilastri della digit
 alizzazione delle relazioni B2b. Pur essendo una tecnologia storica\, l’ED
 I continua a svolgere un ruolo chiave come abilitatore di automazione\, ef
 ficienza e affidabilità nei processi di scambio informativo. Questo è part
 icolarmente evidente nella filiera del Largo Consumo\, dove l’elevata comp
 lessità delle relazioni tra industria e retail richiede standard condivisi
 \, continuità operativa e coordinamento costante. In un contesto caratteri
 zzato da grandi volumi transazionali\, l’EDI consente uno scambio struttur
 ato e sicuro dei dati commerciali\, contribuendo significativamente alla r
 iduzione di errori\, tempi e costi operativi.\nTuttavia\, l’adozione sembr
 a aver raggiunto un plateau. Nonostante i benefici\, la filiera fatica a t
 rovare meccanismi efficaci per incrementare la diffusione e promuovere un 
 utilizzo maturo e consapevole della tecnologia. Per rispondere a questa sf
 ida\, nella sua prima edizione l’Osservatorio EDI nel Largo Consumo —inizi
 ativa congiunta tra Osservatorio Digital B2b e GS1 Italy— ha monitorato la
  composizione dell’ecosistema delle aziende connesse e il loro livello di 
 adozione\, stimando i benefici quali-quantitativi derivanti dall’uso capil
 lare dell’EDI\, con l’obiettivo di supportare maggiore consapevolezza e sp
 ingere la crescita dell’ecosistema.\nIl Convegno presenterà i risultati de
 lla Ricerca\, che saranno discussi con referenti GS1 Italy e aziende utili
 zzatrici\, definendo strategie di maturità e traiettorie future di integra
 zione dell’EDI con nuove tecnologie a supporto dei processi. https://taket
 hedate.it/eventi-milano/Eventi/52339-connettere-per-competere-ledi-nel-lar
 go-consumo-nel-2026.html
DTSTART:20260421T080000Z
DTEND:20260421T110000Z
LOCATION:Milano (Milano)
SUMMARY:Connettere per competere: l'Edi nel Largo Consumo nel 2026
URL:https://takethedate.it/eventi-milano/Eventi/52339-connettere-per-compet
 ere-ledi-nel-largo-consumo-nel-2026.html
END:VEVENT
END:VCALENDAR
