BEGIN:VCALENDAR
VERSION:2.0
PRODID:-//https://takethedate.it///NONSGML kigkonsult.se iCalcreator 2.10.15//
METHOD:PUBLISH
BEGIN:VEVENT
UID:20260420T184506CEST-0526ULIdM4@https://takethedate.it/
DTSTAMP:20260420T164506Z
DESCRIPTION:Milano: media tutorial 'Il movimento come cura: l'attivita' fis
 ica nel percorso oncologico'\, organizzato da Amgen. Ore 11\,30. Presso 'T
 errazza 12'\, via Durini 28. https://takethedate.it/eventi-milano/Eventi/5
 2334-il-movimento-come-cura-lattivita-fisica-nel-percorso-oncologico.html
DTSTART:20260421T093000Z
DTEND:20260421T113000Z
LOCATION:Milano (Milano)
SUMMARY:Il movimento come cura: l'attivita' fisica nel percorso oncologico
URL:https://takethedate.it/eventi-milano/Eventi/52334-il-movimento-come-cur
 a-lattivita-fisica-nel-percorso-oncologico.html
END:VEVENT
END:VCALENDAR
