BEGIN:VCALENDAR
VERSION:2.0
PRODID:-//https://takethedate.it///NONSGML kigkonsult.se iCalcreator 2.10.15//
METHOD:PUBLISH
BEGIN:VEVENT
UID:20260420T184530CEST-5558Aj6vve@https://takethedate.it/
DTSTAMP:20260420T164530Z
DESCRIPTION:Milano: conferenza stampa Fira\, Fondazione Italiana per la Ric
 erca in Reumatologia\, per presentazione nuova ricerca 'Il microbiota vagi
 nale ha un ruolo nello sviluppo delle spondiloartriti. Dalla medicina di g
 enere nuovi possibili target terapeutici'. Ore 11\,00. Presso la Sala Stam
 pa Nazionale\, via Cordusio 4. https://takethedate.it/eventi-milano/Eventi
 /52333-il-microbiota-vaginale-ha-un-ruolo-nello-sviluppo-delle-spondiloart
 riti-dalla-medicina-di-genere-nuovi-possibili-target-terapeutici.html
DTSTART:20260421T090000Z
DTEND:20260421T110000Z
LOCATION:Milano (Milano)
SUMMARY:Il microbiota vaginale ha un ruolo nello sviluppo delle spondiloart
 riti. Dalla medicina di genere nuovi possibili target terapeutici
URL:https://takethedate.it/eventi-milano/Eventi/52333-il-microbiota-vaginal
 e-ha-un-ruolo-nello-sviluppo-delle-spondiloartriti-dalla-medicina-di-gener
 e-nuovi-possibili-target-terapeutici.html
END:VEVENT
END:VCALENDAR
