BEGIN:VCALENDAR
VERSION:2.0
PRODID:-//https://takethedate.it///NONSGML kigkonsult.se iCalcreator 2.10.15//
METHOD:PUBLISH
BEGIN:VEVENT
UID:20260422T123739CEST-7330eLomwO@https://takethedate.it/
DTSTAMP:20260422T103739Z
DESCRIPTION:Il contributo del servizio meteorologico pubblico ai Giochi Oli
 mpici e Paralimpici Invernali Milano Cortina 2026 sarà al centro di un wor
 kshop pensato come momento di confronto e condivisione tra istituzioni\, o
 peratori del settore e cittadini.\nL’iniziativa offrirà l’occasione per pr
 esentare il lavoro congiunto svolto da Arpa Lombardia\, Arpa Veneto\, Prov
 incia Autonoma di Trento e Provincia Autonoma di Bolzano\, coordinati da A
 rpa Lombardia nell’ambito del Weather Service for Winter Games (WS4WG).\nU
 n’esperienza significativa che ha visto la collaborazione tra Enti diversi
  per garantire un supporto meteorologico altamente specializzato per i Gio
 chi invernali.\nIl workshop intende valorizzare non solo le soluzioni adot
 tate durante l’evento\, ma anche l’eredità lasciata in termini di sviluppo
  dei servizi\, utilizzo dei dati\, monitoraggio ambientale in ambito alpin
 o e gestione operativa.\nPer il servizio meteorologico pubblico\, la sfida
  olimpica ha rappresentato un banco di prova importante per consolidare st
 rumenti\, competenze e modalità di lavoro.\nL’evento è concepito come uno 
 spazio aperto di dialogo che coinvolgerà\, oltre agli Enti promotori\, anc
 he utilizzatori istituzionali e sportivi\, insieme a rappresentanti di ser
 vizi meteorologici internazionali attivi nel campo della modellistica mete
 orologica.\nLa giornata prenderà il via alle ore 9:30 con la registrazione
  dei partecipanti\, seguita dai saluti istituzionali e dagli interventi de
 i relatori. In programma anche una sessione di confronto con il pubblico.
 \nI lavori si concluderanno alle ore 13.\nInterverranno\, tra gli altri\, 
 per i saluti istituzionali: Massimo Sertori – assessore regionale Enti loc
 ali\, Montagna\, Risorse energetiche\, Utilizzo risorsa idrica\, Fabio Cam
 bielli – direttore generale Arpa Lombardia\, Aldo Colombo – direzione cent
 rale PNRR\, Olimpiadi e Digitalizzazione\, Vicesegretario Generale Regione
  Lombardia e Anna Riccardi – sport director\, Fondazione Milano Cortina 20
 26.\nConcluderà i lavori l’assessore regionale all’Ambiente e Clima\, Gior
 gio Maione. La partecipazione\, ammessa solo in presenza\, è gratuita e li
 mitata dal numero dei posti in sala. https://takethedate.it/eventi-milano/
 Eventi/52329-il-meteo-per-i-giochi-invernali-un-servizio-meteorologico-pub
 blico-su-misura.html
DTSTART:20260505T073000Z
DTEND:20260505T103000Z
LOCATION:Milano (Milano)
SUMMARY:Il Meteo per i giochi invernali. Un servizio meteorologico pubblico
  su misura
URL:https://takethedate.it/eventi-milano/Eventi/52329-il-meteo-per-i-giochi
 -invernali-un-servizio-meteorologico-pubblico-su-misura.html
END:VEVENT
END:VCALENDAR
