BEGIN:VCALENDAR
VERSION:2.0
PRODID:-//https://takethedate.it///NONSGML kigkonsult.se iCalcreator 2.10.15//
METHOD:PUBLISH
BEGIN:VEVENT
UID:20260422T104234CEST-3077EU0UCv@https://takethedate.it/
DTSTAMP:20260422T084234Z
DESCRIPTION:GatewAI 2026 si terrà all'Enterprise Hotel\, Corso Sempione\, 9
 1\, 20149 Milano. L'evento inizierà con l'accredito e il welcome coffee da
 lle 08.30 alle 09.30. Seguiranno i saluti istituzionali e l'apertura dei l
 avori con Debora Massari\, Assessore al Turismo di Regione Lombardia\, e a
 ltri relatori TBC.\nDalle 10.00 alle 11.00 si discuterà 'Il turismo del fu
 turo: tra automazione e personalizzazione' con relatori come Antonio Barre
 ca\, Mirko Lalli\, Andrea Delfini\, Davide Filiaggi\, Antonio Zacchera e m
 oderato da Paola Olivari.\nAlle 11:00 ci sarà la presentazione del white p
 aper 'Turismo Innovazione Repower' con Edoardo Colombo e Laura Testa. Dall
 e 11.15 alle 11.30 si svolgerà un AI Talk con Giuseppe Italiano\, moderato
  da Paola Olivari.\nDalle 11.30 alle 12.45 si parlerà di 'Costruire fiduci
 a nell’AI\, tecnologia\, etica e nuove competenze' con relatori come Stefa
 no Quintarelli\, Alessandro De Florentiis\, Gualtiero Carraro e Francesco 
 Ciuccarelli.\nDopo una pausa pranzo dalle 13.00 alle 14.30\, l'evento ripr
 enderà con 'Destinazioni intelligenti' dalle 14.30 alle 15.45\, con modera
 tori Edoardo Colombo e Nadia Baldi.\nDalle 16.00 alle 16.45 si discuterà d
 i 'Intelligenza artificiale e distribuzione: nuovi canali\, nuovi dati' co
 n Mirko Lalli e Marco Orlandi. Infine\, dalle 16.45 alle 17.30 ci sarà un 
 panel speciale su 'Finanza innovativa e TravelTech' con Leonardo Saroni\, 
 Elena Plos\, Francesco Caio e Karin Venneri.\nL'evento si concluderà alle 
 17.30 con le conclusioni di Edoardo Colombo. https://takethedate.it/eventi
 -milano/Eventi/52327-gatewai-2026.html
DTSTART:20260505T073000Z
DTEND:20260505T153000Z
LOCATION:Milano (Milano)
SUMMARY:GatewAI 2026
URL:https://takethedate.it/eventi-milano/Eventi/52327-gatewai-2026.html
END:VEVENT
END:VCALENDAR
