BEGIN:VCALENDAR
VERSION:2.0
PRODID:-//https://takethedate.it///NONSGML kigkonsult.se iCalcreator 2.10.15//
METHOD:PUBLISH
BEGIN:VEVENT
UID:20260422T104521CEST-6951eWFMUt@https://takethedate.it/
DTSTAMP:20260422T084521Z
DESCRIPTION:\n\nLe recenti innovazioni farmacologiche basate su tecnologie 
 di rilascio avanzate hanno reso disponibili formulazioni in grado di migli
 orare in modo significativo la gestione clinica dell’ipoparatiroidismo cro
 nico. Pur a fronte dell’approvazione a livello nazionale\, la loro effetti
 va adozione nei diversi contesti regionali risulta ancora eterogenea. L’ob
 iettivo dell’incontro è offrire un momento di confronto istituzionale volt
 o a evidenziare le condizioni necessarie per un recepimento omogeneo delle
  tecnologie autorizzate\, favorendo l’allineamento tra evidenze cliniche\,
  decisioni regolatorie e implementazione operativa sul territorio.\n\n\n\n
 \nFaculties\n\n\n\n\nModera Paola Lanati\, Editrice INNLIFES\n\n\n\n\nMari
 a Luisa Brandi\, Presidente comitato scientifico di medici specialisti ass
 ociazione per i pazienti con ipoparatiroidismoArmando De Crinito\, Diretto
 re Generale Sviluppo Economico presso Regione LombardiaErnesto De Menis\, 
 medico specialista in medicina interna e patologie endocrine\, già Diretto
 re della Medicina Generale 2 del Ca’ Foncello e Coordinatore del Dipartime
 nto Endocrino-Metabolico dell’Aulss 2 Marca TrevigianaRoberta Di Turi\, Di
 rettore Dipartimento dei Servizi U.O.C. Farmacia Ospedaliera ASL Roma 3Mar
 ia Galdo\, Responsabile U.O.S.D. e Gestione Clinica del farmaco presso A.O
 . dei ColliCarlotta Galeone\, Ricercatore presso il centro di ricerche B-A
 SC (Bicocca-Applied Statistics center)Armando Genazzani\, Presidente Socie
 tà Italiana di Farmacologia (SIF)Paola Lanati\, Editrice INNLIFESGiovanna 
 Mantovani\, Direttrice della Struttura Complessa presso IRCCS Ca’ Granda O
 spedale Maggiore Policlinico di Milano e Professoressa Ordinaria di Endocr
 inologia Università degli Studi di MilanoPaola Minghetti*\, Direttore dipa
 rtimento scienze farmaceutiche presso UNIMI e Presidente Società Italiana 
 di Tecnologia e Legislazione FarmaceuticheNicola Montano\, Presidente dell
 a Società Italiana di Medicina Interna (SIMI)Emanuela Omodeo Salè\, Dirett
 rice del Servizio Farmacia dell’Istituto Europeo di Oncologia (IEO) e del 
 Centro Cardiologico Monzino (CCM) a Milano Andrea Palermo\, ricercatore di
  Endocrinologia dell’Università Campus Bio-Medico di RomaMassimo Piazzoli\
 , avvocato Studio Legale PiazzoliMarcello Sottocorno*\, Farmacista Diretto
 re di Struttura Complessa presso IRCCS Ca’ Granda Ospedale Maggiore Policl
 inico di Milano\n\n https://takethedate.it/eventi-milano/Eventi/52289-appr
 opriatezza-e-innovazione-nel-trattamento-dellipoparatiroidismo-cronico.htm
 l
DTSTART:20260424T110000Z
DTEND:20260424T150000Z
LOCATION:Milano (Milano)
SUMMARY:Appropriatezza e innovazione nel trattamento dell’ipoparatiroidismo
  cronico
URL:https://takethedate.it/eventi-milano/Eventi/52289-appropriatezza-e-inno
 vazione-nel-trattamento-dellipoparatiroidismo-cronico.html
END:VEVENT
END:VCALENDAR
