BEGIN:VCALENDAR
VERSION:2.0
PRODID:-//https://takethedate.it///NONSGML kigkonsult.se iCalcreator 2.10.15//
METHOD:PUBLISH
BEGIN:VEVENT
UID:20260420T202939CEST-0394OnPOtZ@https://takethedate.it/
DTSTAMP:20260420T182939Z
DESCRIPTION:La tecnologia sta ridefinendo il ruolo delle donne nella sanità
 \, sia come pazienti\, che come caregiver o come professioniste del settor
 e. Questa è la prospettiva secondo cui analizzeremo i bisogni emergenti\, 
 i dati di genere ancora mancanti e le soluzioni che possono guidare un cam
 biamento.\n11 Maggio 2026 ore 17.30 Uffici AWS - Viale Montegrappa 3/5\, M
 ilano\nProgramma: 17.00 Ingresso e registrazione 17:30 Welcome e introduzi
 one: Rosanna Serra\, Coordinatrice Commissione Sanità Digitale Donne 4.0\,
  Giulia di Lernia\, Senior Marketing Representative Italy\, AWS Marketing 
 Integrated DC - Women@AWS Member 17:45 Tavola Rotonda - La tecnologia a su
 pporto di pazienti e caregiver: Anna Maria Mancuso\, Presidente Salute Don
 na Onlus\, Laura Bignami\, Servizio prima firmataria emendamento caregiver
 \, Michela Conti\, Co-founder & President @Ugo\, Giulia Marchese\, Co-foun
 der & CTO @Geen\, Moderano: Silvia Pinciroli e Sabrina Scarpati\, Commissi
 one Sanità Digitale Donne 4.0.\nAl termine sessione Q&A 18:45 Key Note Spe
 ech - Operatrici nella sanità: competenze digitali\, leadership e nuove op
 portunità professionali: Francesca Puggioni\, Donne Leader In Sanità\, Cap
 oSezione Clinico Organizzativo ImmunoCenter Humanitas Research Hospital & 
 Adjunct Professor Post-graduate Residency Program of Allergy and Clinical 
 Immunology Humanitas University 19:05 Closing: Juli Hysenbelli\, Global Le
 ad Connected Care\, Digital Surgery AWS Healthcare & LiveScience/Women@AWS
  Member\, Patrizia Palazzi\, Vice Presidente Donne 4.0 19:30 Aperitivo di 
 Networking https://takethedate.it/eventi-milano/Eventi/52280-donne-nella-s
 anita-tra-innovazione-dati-e-nuovi-modelli-di-cura.html
DTSTART:20260511T153000Z
DTEND:20260511T173000Z
LOCATION:Milano (Milano)
SUMMARY:Donne nella sanità tra innovazione\, dati e nuovi modelli di cura
URL:https://takethedate.it/eventi-milano/Eventi/52280-donne-nella-sanita-tr
 a-innovazione-dati-e-nuovi-modelli-di-cura.html
END:VEVENT
END:VCALENDAR
