BEGIN:VCALENDAR
VERSION:2.0
PRODID:-//https://takethedate.it///NONSGML kigkonsult.se iCalcreator 2.10.15//
METHOD:PUBLISH
BEGIN:VEVENT
UID:20260422T115909CEST-2543fc1hvt@https://takethedate.it/
DTSTAMP:20260422T095909Z
DESCRIPTION:Durante l'evento internazionale di due giorni che si terrà a Mi
 lano il 4 e 5 maggio\, giovani talenti\, futuri leader e un pubblico più a
 mpio si confronteranno con figure di spicco a livello internazionale sulle
  principali sfide e tendenze globali. I partecipanti saranno coinvolti in 
 sessioni plenarie interattive su una vasta gamma di argomenti\, dai confli
 tti attuali alle prospettive economiche\, dall'intelligenza artificiale al
 la transizione energetica/verde. https://takethedate.it/eventi-milano/Even
 ti/52236-next-milan-forum.html
DTSTART:20260504T070000Z
DTEND:20260505T170000Z
LOCATION:Milano (Milano)
SUMMARY:Next Milan forum
URL:https://takethedate.it/eventi-milano/Eventi/52236-next-milan-forum.html
END:VEVENT
END:VCALENDAR
