BEGIN:VCALENDAR
VERSION:2.0
PRODID:-//https://takethedate.it///NONSGML kigkonsult.se iCalcreator 2.10.15//
METHOD:PUBLISH
BEGIN:VEVENT
UID:20260422T120109CEST-6801287uHl@https://takethedate.it/
DTSTAMP:20260422T100109Z
DESCRIPTION:IL FESTIVAL L'iniziativa L’Agenda 2030 dell’Onu L'Alleanza Le e
 dizioni precedenti PROPONI EVENTO Candida FAQ PARTECIPA Sei un cittadino/a
 ssociazione? Sei una scuola/università?\nSei un'azienda? Sei un ente local
 e? EVENTI Cartellone completo Eventi ASviS Eventi scuole e università ASVI
 S- FESTIVAL DELLO SVILUPPO SOSTENIBILE 2026 Milano RITORNO AL FUTURO INVES
 TIMENTI E POLITICHE SOSTENIBILI IN UN MONDO INSTABILE.\nA Milano la decima
  edizione del Festival dello Sviluppo Sostenibile si apre con un messaggio
  preciso: la sostenibilità è un aspetto cruciale delle strategie industria
 li e finanziarie\, non un capitolo accessorio.\nIn una fase in cui le ince
 rtezze globali e le transizioni (energetica\, digitale\, demografica) acce
 lerano\, capire come imprese\, mercati dei capitali e politiche pubbliche 
 possano ridurre rischi sistemici e\, insieme\, orientare investimenti e in
 novazione verso traiettorie orientate ad uno sviluppo sostenibile.\nL’ASvi
 S\, nei suoi Rapporti\, ha già dimostrato in modo scientificamente rigoros
 o che “la sostenibilità conviene” e che l’inazione impone costi economici 
 e sociali\, non solo ambientali.\nNell’evento di apertura del Festival 202
 6 verrà presentato il Rapporto di Primavera 2026 dell’ASviS\, orientato ag
 li scenari futuri per il mondo\, l’Unione europea e l’Italia\, a partire d
 al quale si alterneranno keynote speech e panel che affronteranno i temi o
 ggi all’attenzione delle imprese e delle istituzioni\, dalle modalità per 
 migliorare la competitività al ruolo della finanza in un mondo dominato da
 ll’incertezza\, dalla transizione energetica alle politiche pubbliche per 
 assicurare uno sviluppo sostenibile.\nL’evento è realizzato in collaborazi
 one con Euronext nel prestigioso Auditorium di Palazzo Mezzanotte in Piazz
 a degli Affari. Per partecipare in presenza è necessaria la registrazione.
 \nAi partecipanti sarà offerto un light lunch nella pausa dei lavori. http
 s://takethedate.it/eventi-milano/Eventi/52221-festival-dello-sviluppo-sost
 enibile.html
DTSTART:20260506T070000Z
DTEND:20260506T100000Z
LOCATION:Milano (Milano)
SUMMARY:Festival dello sviluppo sostenibile
URL:https://takethedate.it/eventi-milano/Eventi/52221-festival-dello-svilup
 po-sostenibile.html
END:VEVENT
END:VCALENDAR
