BEGIN:VCALENDAR
VERSION:2.0
PRODID:-//https://takethedate.it///NONSGML kigkonsult.se iCalcreator 2.10.15//
METHOD:PUBLISH
BEGIN:VEVENT
UID:20260422T104243CEST-8521AM9HmX@https://takethedate.it/
DTSTAMP:20260422T084243Z
DESCRIPTION:Da 19 anni\, il Forum Comunicazione è l’evento di punta per la 
 comunicazione d’impresa e istituzionale in Italia.È una piattaforma di con
 tenuti e relazioni dove i partecipanti superano il circolo autoreferenzial
 e e interagiscono con opinion leader dell’economia e dell’informazione.Il 
 programma include Talk Show\, Tavoli Tematici\, Business Matching\, Speech
  e Workshop\, favorendo sinergie tra C-Level manager della comunicazione d
 ’impresa e istituzionale e professionisti della comunicazione\, marketing 
 e innovazione digitale.\nParola chiave di quest'edizione sarà: “TONE OF VO
 ICE: LA VOCE DELLE ORGANIZZAZIONI TRA LINGUAGGIO\, FIDUCIA E TECNOLOGIA”.
 \nDare voce alle intelligenze collettive — umane\, digitali e organizzativ
 e — per costruire linguaggi comuni\, fiducia e autenticità in un’epoca di 
 iperconnessione.\nRifletteremo sull’evoluzione della “voce” della comunica
 zione d’impresa in un’epoca segnata da trasformazioni tecnologiche e organ
 izzative. Le aziende sono oggi chiamate non solo a informare\, ma a trasme
 ttere valori\, purpose\, autenticità\, costruendo relazioni fondate sulla 
 fiducia e sulla coerenza narrativa. Strumenti generativi e nuove forme di 
 automazione amplificano la capacità comunicativa\, ma impongono anche nuov
 e responsabilità: serve ripensare il tono\, scegliere con cura le parole\,
  creare una grammatica condivisa tra persone e sistemi.\nUna comunicazione
  più partecipativa\, più adattiva\, più umana — anche quando mediata dalla
  tecnologia. https://takethedate.it/eventi-milano/Eventi/52172-forum-comun
 icazione-2026.html
DTSTART:20260506T070000Z
DTEND:20260506T160000Z
LOCATION:Milano (Milano)
SUMMARY:Forum comunicazione 2026
URL:https://takethedate.it/eventi-milano/Eventi/52172-forum-comunicazione-2
 026.html
END:VEVENT
END:VCALENDAR
