BEGIN:VCALENDAR
VERSION:2.0
PRODID:-//https://takethedate.it///NONSGML kigkonsult.se iCalcreator 2.10.15//
METHOD:PUBLISH
BEGIN:VEVENT
UID:20260422T104735CEST-1162cULbW7@https://takethedate.it/
DTSTAMP:20260422T084735Z
DESCRIPTION:Il prossimo 12 maggio\, Anitec-Assinform insieme ad Assolombard
 a\, Health Ecole e Aiop Lombardia\, organizzano l'evento 'Sanità digitale:
  persone\, visioni\, futuro in Lombardia'\, presso la sede di Assolombarda
  a Milano.\nSi tratta del secondo appuntamento del percorso avviato con il
  White Paper “Tecnologie e policy per il futuro della sanità digitale”\, c
 he porta il confronto sulla trasformazione digitale della sanità sul terri
 torio lombardo\, facendo emergere esperienze\, best practice e sfide concr
 ete dagli attori locali.\nIl confronto coinvolgerà rappresentanti istituzi
 onali regionali del sistema sanitario\, del mondo della ricerca e delle im
 prese\, con l’obiettivo di individuare priorità e azioni condivise per una
  sanità più moderna\, efficiente e vicina ai bisogni dei cittadini. https:
 //takethedate.it/eventi-milano/Eventi/52129-sanita-digitale-persone-vision
 i-futuro-in-lombardia.html
DTSTART:20260512T080000Z
DTEND:20260512T110000Z
LOCATION:Milano (Milano)
SUMMARY:Sanità digitale: persone\, visioni\, futuro in Lombardia
URL:https://takethedate.it/eventi-milano/Eventi/52129-sanita-digitale-perso
 ne-visioni-futuro-in-lombardia.html
END:VEVENT
END:VCALENDAR
